BEGIN:VCALENDAR
VERSION:2.0
PRODID:-//Gratis-in-Berlin//NONSGML kigkonsult.se iCalcreator 2.14//
METHOD:PUBLISH
X-WR-CALNAME:Gratis-in-Berlin Tip Kalender
X-WR-CALDESC:Erhalte Gratis-in-Berlin Tips in deinem Kalender
BEGIN:VEVENT
UID:20260423T145030UTC-1156mxRZAt@Gratis-in-Berlin
DTSTAMP:20260423T145030Z
DESCRIPTION:Die Dicherter Berlins lesen auf offentlichen Platzen in ihren B
 ezirken. \n\nAb 11:00 In den Bezirken\nEintritt frei für alle Veranstaltungen 
 \n\n11:00 Neukolln Neukolln-Arcaden\, Karl-Marx-Straße 66\, Parkdeck 6. Bei
  schlechtem Wetter Parkdeck 5. Mit Nico Bleutge\, Tom Bresemann\, Brigitte
  Oleschinski\, Marlen Pelny\, Jan Wagner \n\n13:00 Pankow Hof des Kultur- 
 und Bildungszentrums Sebastian Haffner\, Am Wasserturm\, Prenzlauer Allee 
 227-228. Bei schlechtem Wetter in der Ausstellungshalle. Mit Andreas Altma
 nn\, Lars-Arvid Brischke\, Tanja Dückers\, Elke Erb\, Eberhard Hafner\, Krzyszt
 of Niewrze&#731\;&#8201\;da\, Alistair Noon\, Donna Stonecipher\, Mathias 
 Traxler \n\n14:00 Treptow-Kopenick Wagendorf Lohmühle\, Lohmühlenstraße\, Ecke Kiefho
 lzstraße. Bei schlechtem Wetter ebenfalls dort. Mit Klara Beten\, Dieter Ke
 rschek\, Birgit Kreipe\, Nadja Küchenmeister\, Ursula Macht\, Armin Kurosh Mars
 chall\, Steffen Thiemann\, Bastian Schlickeisen\, Artur Szlosarek\, Peter 
 Waschinsky Musik Jason Stein Bassklarinette Tobi Delius Tenorsaxophon Clay
 ton Thomas Bass \n\n15:00 Marzahn-Hellersdorf Garten des Kunsthauses Flora
 \, Florastraße 113. Bei schlechtem Wetter ebenfalls dort. Mit Gerd Adloff\,
  Diego Gortaire\, Margarete Groschupf\, Blanche Kommerell\, Sebastian Netz
 ker\, Richard Pietraß \n\n16:00 Charlottenburg-Wilmersdorf Rundhof im Ratha
 us Wilmersdorf\, Fehrbelliner Platz 4. Bei schlechtem Wetter in den Arkade
 n des Rundhofs. Mit Zehra A&#305\;rak\, René Hamann\, Abbas Khider\, Uwe Kol
 be\, Philip Maroldt\, Nikola Richter\, Daniela Seel\, Zafer &#350\;enocak\
 , Ulf Stolterfoht  \n\nQuelle: Website\n\n\n\nViel Spass wünscht Gratis-in-Berl
 in\n\nLink zum Tip: \nZu den Gratis-in-Berlin Angeboten: http://www.gratis
 -in-berlin.de\n
DTSTART;VALUE=DATE:20090627
DTEND;VALUE=DATE:20090628
SUMMARY:Poets' Corner - Dichter lesen in ihren Bezirken
END:VEVENT
END:VCALENDAR
