BEGIN:VCALENDAR
VERSION:2.0
PRODID:-//Gratis-in-Berlin//NONSGML kigkonsult.se iCalcreator 2.14//
METHOD:PUBLISH
X-WR-CALNAME:Gratis-in-Berlin Tip Kalender
X-WR-CALDESC:Erhalte Gratis-in-Berlin Tips in deinem Kalender
BEGIN:VEVENT
UID:20260423T145536UTC-8817HGAode@Gratis-in-Berlin
DTSTAMP:20260423T145536Z
DESCRIPTION:Große Vernissage Freitag 26.6.2009\, 17:00 im Rahmen der Festiva
 leroffnung des Poesiefestivals. \nPoetische Sprachspiele mit allen Sinnen:
  \n'Man kann Verse ertanzen\, Begriffe fühlen oder in Wassertropfen erkennen\, 
 Texte durch Bewegung lesen\, SehnsuchtsWorte schreiben\, mit der Stimme Bu
 chstaben steuern\, Textmaschinen anwerfen oder im benachbarten Tiergarten 
 durch ein satellitengesteuertes HorGehdicht wandern.' \nQuelle: Website\n
 \n\nViel Spass wünscht Gratis-in-Berlin\n\nLink zum Tip: \nZu den Gratis-in-Ber
 lin Angeboten: http://www.gratis-in-berlin.de\n
DTSTART;VALUE=DATE:20090626
DTEND;VALUE=DATE:20090627
SUMMARY:Poesie-Festival-Vernissage mit Sprachspielen und satellitengesteuer
 tem HorGedicht
END:VEVENT
END:VCALENDAR
