BEGIN:VCALENDAR
VERSION:2.0
PRODID:-//Gratis-in-Berlin//NONSGML kigkonsult.se iCalcreator 2.14//
METHOD:PUBLISH
X-WR-CALNAME:Gratis-in-Berlin Tip Kalender
X-WR-CALDESC:Erhalte Gratis-in-Berlin Tips in deinem Kalender
BEGIN:VEVENT
UID:20260423T145101UTC-5455Ve0Nl1@Gratis-in-Berlin
DTSTAMP:20260423T145101Z
DESCRIPTION:Afrikanische Bürger Berlins als 'lebende Geschichtsbücher'\n\nNach einem 
 erfolgreichen Start setzt sich die Veranstaltungsreihe AFRIKA MITTE(N) IM 
 GESPRACH vom September bis Oktober 2009 fort. Im Rahmen seiner Integration
 s- und Bildungsarbeit stellt der Verein Farafina e.V. diesmal afrikanische
  Bürgerinnen Berlins in den Mittelpunkt. Zu den Gesprachen soll jeweils eine Af
 rikanerin eingeladen werden\, die über ihre Erfahrungen\, ihr Leben\, ihren Ber
 uf\, ihr neues Heimatgefühl in Deutschland u.a.m. spricht.\n\nFreitag\, 11.9.20
 09\, 19.30Uhr\, Afrika Haus:\nKoko N'Diabi Affi-Tenin\, Betriebswirtin (To
 go)\n\nFreitag\, 18.9.2009\, 19.30Uhr\, Afrika Haus:\nMFA Kera\, Sangerin 
 (Madagaskar)\n\nFreitag\, 25.9.2009\, 19.30Uhr\, Afrika Haus:\nStefanie Au
 kongo\, Buchautorin (Namibia)\n\nFreitag\, 9.10.2009\, 19.30Uhr\, Afrika H
 aus:\nDjenyaba Kamara\, Hausfrau (Mauretanien\n\nDer Eintritt ist frei.\n
 \nViel Spass wünscht Gratis-in-Berlin\n\nLink zum Tip: \nZu den Gratis-in-Berli
 n Angeboten: http://www.gratis-in-berlin.de\n
DTSTART;VALUE=DATE:20091009
DTEND;VALUE=DATE:20091010
SUMMARY:AFRIKA MITTE(N) IM GESPRACH im Afrikahaus
END:VEVENT
END:VCALENDAR
