BEGIN:VCALENDAR
VERSION:2.0
PRODID:-//Gratis-in-Berlin//NONSGML kigkonsult.se iCalcreator 2.14//
METHOD:PUBLISH
X-WR-CALNAME:Gratis-in-Berlin Tip Kalender
X-WR-CALDESC:Erhalte Gratis-in-Berlin Tips in deinem Kalender
BEGIN:VEVENT
UID:20260425T133354UTC-5583JWXN05@Gratis-in-Berlin
DTSTAMP:20260425T133354Z
DESCRIPTION:gerald koenig liest aus: 'Der Hundertjahrige\, der aus dem Fens
 ter stieg und...A' Jonas Jonasson\, Schweden 2012  stadtbibliothek neukoel
 ln ekz neukoelln arcaden 4 stock !  ubahn rathhaus neukoelln\n\nViel Spass
  wünscht Gratis-in-Berlin\n\nLink zum Tip: https://www.gratis-in-berlin.de/grat
 is-in-berlin/item/2008425-lesung\nZu den Gratis-in-Berlin Angeboten: http:
 //www.gratis-in-berlin.de\n
DTSTART;VALUE=DATE:20121220
DTEND;VALUE=DATE:20121221
SUMMARY:Lesung: Der Hundertjährige\, der aus dem Fenster stieg und...
END:VEVENT
END:VCALENDAR
