BEGIN:VCALENDAR
VERSION:2.0
PRODID:-//Gratis-in-Berlin//NONSGML kigkonsult.se iCalcreator 2.14//
METHOD:PUBLISH
X-WR-CALNAME:Gratis-in-Berlin Tip Kalender
X-WR-CALDESC:Erhalte Gratis-in-Berlin Tips in deinem Kalender
BEGIN:VEVENT
UID:20260422T133620UTC-05171unPO1@Gratis-in-Berlin
DTSTAMP:20260422T133620Z
DESCRIPTION:Der Literatursaloon Lunge existiert seit 15 Jahren. Seit 5 Jahr
 en lesen Autor*innen jeden letzten Donnerstag des Monats im Café Tasso ihre 
 Geschichten einem wachsenden Publikum vor. Die Vielfalt der Texte brachte 
 viele Augen zum Leuchten\, regte Gedanken an\, provozierte zustimmende und
  kritische Bemerkungen und kaum ein Gast blieb ungerührt. Neuerdings gibt es zu
 sätzlich zu den Kurzgeschichten musikalische und/oder poetische Beiträge\, wod
 urch die Abende im Literatursaloon Lunge noch einmal eine ganz andere Note
  erhalten. Durch das langjährige Bestehen des Literatursaloons und die zuneh
 mende Qualität der Texte inspiriert\, gründeten zwei Autoren die Geschichtenzeits
 chrift STORYATELLA. In ihr erscheinen zahlreiche Geschichten von Autor*inn
 en des Literatursaloons. Wir freuen uns\, Sie bei einer der nächsten Lesunge
 n als Neu- oder Stammpublikum begrüßen zu dürfen. An diesem Abend präsentiert Storyate
 lla - Berliner Shortstories zum Thema: Jetzt erst recht . Es lesen Katrin 
 Schulz\, Andreas Vornehm\, Thorsten Falke &amp\; Gäste.\n\nViel Spass wünscht Gra
 tis-in-Berlin\n\nLink zum Tip: \nZu den Gratis-in-Berlin Angeboten: http:/
 /www.gratis-in-berlin.de\n
DTSTART;VALUE=DATE:20170525
DTEND;VALUE=DATE:20170526
SUMMARY:Storyatella - Berliner Kurzgeschichten: Jetzt erst recht.
END:VEVENT
END:VCALENDAR
