BEGIN:VCALENDAR
VERSION:2.0
PRODID:-//Gratis-in-Berlin//NONSGML kigkonsult.se iCalcreator 2.14//
METHOD:PUBLISH
X-WR-CALNAME:Gratis-in-Berlin Tip Kalender
X-WR-CALDESC:Erhalte Gratis-in-Berlin Tips in deinem Kalender
BEGIN:VEVENT
UID:20260419T171118UTC-2402nFO178@Gratis-in-Berlin
DTSTAMP:20260419T171118Z
DESCRIPTION:Im Rahmen ihrer Ausstellung 'oben bleiben text-bilder von alex 
 breugl' trägt die Künstlerin eigene Texte vor. Der Abend wird musikalisch auf der
  Gitarre begleitet\n\nViel Spass wünscht Gratis-in-Berlin\n\nLink zum Tip: http
 s://www.gratis-in-berlin.de/lesungen-hoerspiele/item/2032639-autorenlesung
 -mit-alexandra-linett\nZu den Gratis-in-Berlin Angeboten: http://www.grati
 s-in-berlin.de\n
DTSTART;VALUE=DATE:20260502
DTEND;VALUE=DATE:20260503
SUMMARY:lesung mit alex breugl und Musik
END:VEVENT
END:VCALENDAR
