BEGIN:VCALENDAR
VERSION:2.0
PRODID:-//Gratis-in-Berlin//NONSGML kigkonsult.se iCalcreator 2.14//
METHOD:PUBLISH
X-WR-CALNAME:Gratis-in-Berlin Tip Kalender
X-WR-CALDESC:Erhalte Gratis-in-Berlin Tips in deinem Kalender
BEGIN:VEVENT
UID:20260419T171102UTC-9813An70fS@Gratis-in-Berlin
DTSTAMP:20260419T171102Z
DESCRIPTION:Andreas Hoffmann liest aus seinem druckfrischen Roman:Ein einzi
 ger Satz aus der Vergangenheit ? und das Leben gerät aus den Fugen: Als Bern
 hard Demetriou\, angesehener Münchener Radiologe\, eine Postkarte aus dem Jahr 
 1988 in Händen hält\, stürzt ihn die Botschaft in einen Strudel aus Erinnerungen\, 
 Sehnsucht und Schuld. »Deine\, immer Deine Julia« ? Worte einer Jugendliebe\
 , die ihn damals wie heute elektrisieren. Warum erreicht ihn diese Nachric
 ht erst jetzt? Und was wäre gewesen\, wenn ...?Bernhard beginnt zu suchen ? 
 und findet sich wieder in einer Welt\, die er längst hinter sich glaubte: Be
 rlin\, die wilden Achtziger\, politische Proteste\, Nächte voller Zaubertric
 ks und Träume. Ein Kongress führt ihn nach Berlin\, wo er Chris\, einen Freund au
 s seiner damaligen Aktivistengruppe\, trifft. Chris behauptet\, Julia exis
 tiere nicht mehr. Kurz darauf folgt eine überraschende Wendung: Auf dem Friedho
 f St. Matthäus steht Julia plötzlich vor Bernhard ? unter neuem Namen: Britta G
 ernson. Diese Begegnung wirbelt alles durcheinander: Bernhards Beziehung z
 u Nele\, seine Gewissheiten\, sein Bild von sich selbst. Zwischen bürgerlichem 
 Lebensstil und dem Lockruf der Freiheit muss er entscheiden\, was zählt: Sic
 herheit oder Leidenschaft\, Gegenwart oder Vergangenheit.\n\nViel Spass wünscht
  Gratis-in-Berlin\n\nLink zum Tip: https://www.gratis-in-berlin.de/lesunge
 n-hoerspiele/item/2045937-lara-lesung-mit-musik\nZu den Gratis-in-Berlin A
 ngeboten: http://www.gratis-in-berlin.de\n
DTSTART;VALUE=DATE:20260509
DTEND;VALUE=DATE:20260510
SUMMARY:Post aus der Vergangenheit - Lesung
END:VEVENT
END:VCALENDAR
