BEGIN:VCALENDAR
VERSION:2.0
PRODID:-//Gratis-in-Berlin//NONSGML kigkonsult.se iCalcreator 2.14//
METHOD:PUBLISH
X-WR-CALNAME:Gratis-in-Berlin Tip Kalender
X-WR-CALDESC:Erhalte Gratis-in-Berlin Tips in deinem Kalender
BEGIN:VEVENT
UID:20260420T113540UTC-53821fPs9d@Gratis-in-Berlin
DTSTAMP:20260420T113540Z
DESCRIPTION:Erschöpfung und rätselhafte Entzündungen\, Reizdarm\, gestörter Schlaf\, Dep
 ressionen\, Autoimmunerkrankungen und andere hartnäckige Beschwerden\, für die es
  scheinbar keine Erklärung gibt: Wenn Ihnen diese Symptome bekannt vorkommen
 \, sollten Sie eventuell an einen Hormonmangel denken.Die aus ihrem neuen 
 Sachbuch Hormonchaos. Viele Symptome eine Ursache lesende Berliner Autorin
  Astrid Müller brachte einen Ärzte-Marathon hinter sich\, bis sie ihren Hormonen
  auf die Spur kam und die richtige Diagnose gestellt wurde.Anhand von Erfa
 hrungsberichten zeigt sie die verschiedenen Gesichter von Hormonmangel\, w
 as ihn auslösen kann und\, wie er schonend behandelt wird.© Astrid Müller (Text und
  Bild)Teilnahmegebühr: kostenlosAnmeldung: krimisalon@stb-mitte.de\n\nViel Spas
 s wünscht Gratis-in-Berlin\n\nLink zum Tip: \nZu den Gratis-in-Berlin Angeboten
 : http://www.gratis-in-berlin.de\n
DTSTART;VALUE=DATE:20231123
DTEND;VALUE=DATE:20231124
SUMMARY:?Hormonchaos : viele Symptome - eine Ursache : Betroffene berichten
 ? Autorinnenlesung mit Astrid Müller
END:VEVENT
END:VCALENDAR
