BEGIN:VCALENDAR
VERSION:2.0
PRODID:-//Gratis-in-Berlin//NONSGML kigkonsult.se iCalcreator 2.14//
METHOD:PUBLISH
X-WR-CALNAME:Gratis-in-Berlin Tip Kalender
X-WR-CALDESC:Erhalte Gratis-in-Berlin Tips in deinem Kalender
BEGIN:VEVENT
UID:20260420T130219UTC-4598sfmsEh@Gratis-in-Berlin
DTSTAMP:20260420T130219Z
DESCRIPTION:Ein sprachgewaltiger und überraschender Coming-of-Age-Roman für Jugendlic
 he\, voller Tiefgang und Gefühl\, neu und aufregend.Seit ihrer ersten Begegnung
  ist Nova völlig fasziniert von Akoua. Ihre Gedanken kreisen nur noch um dies
 es Mädchen\, das mit ihrem Strahlen Novas Welt zum Leuchten bringt. Es ist L
 iebe auf den ersten Blick und der Beginn einer aufregenden Zeit voller ers
 ter Male. Ein Neuanfang\, der keinen Platz mehr für bittere Erinnerungen lässt. D
 enn Nova ist glücklich und denkt kaum noch an das\, was ihre Mutter\, ihr klein
 er Halbbruder und sie erlebt haben. Doch dann geschieht das Unvorstellbare
  und der Schmerz kehrt zurück ...Ein temporeicher Versroman mit einer queeren\,
  Schwarzen Protagonistin\, dieden Mut findet\, nach vorn zu schauen.Wann:1
 6.11.2023\, 18:00 UhrWo:Helene-Nathan-Bibliothek\, Karl-Marx-Straße 66\, 12
 043 Berlin(in den Neukölln Arcaden\, Parkdeck 4)Anmeldung:info@stadtbibliothe
 k-neukoelln.de(030) 90239 4313\n\nViel Spass wünscht Gratis-in-Berlin\n\nLink z
 um Tip: \nZu den Gratis-in-Berlin Angeboten: http://www.gratis-in-berlin.d
 e\n
DTSTART;VALUE=DATE:20231116
DTEND;VALUE=DATE:20231117
SUMMARY:Die Sonne\, so strahlend und Schwarz - Lesung mit Autorin Chantal-F
 leur Sandjon
END:VEVENT
END:VCALENDAR
