BEGIN:VCALENDAR
VERSION:2.0
PRODID:-//Gratis-in-Berlin//NONSGML kigkonsult.se iCalcreator 2.14//
METHOD:PUBLISH
X-WR-CALNAME:Gratis-in-Berlin Tip Kalender
X-WR-CALDESC:Erhalte Gratis-in-Berlin Tips in deinem Kalender
BEGIN:VEVENT
UID:20260422T114652UTC-9328tdVj7g@Gratis-in-Berlin
DTSTAMP:20260422T114652Z
DESCRIPTION:3 aktuelle Formen zu schreiben bei Ritterbooks Klagenfurt mit M
 ark Kanak\, Ralf B. Korte und Clemens SchittkoMit Mark Kanak\, Ralf B. Kor
 te und Clemens Schittko sind differente Verfahren der Verfremdung am Start
 .Zwischen parallel gesetzten Sichten von vielleicht intimen Situationen ve
 rliert sich in Kanaks Text der Überblick\, wessen Wahrheit bei wem sonst al
 s Versuche zu lügen enden oder ob doch unterm Strich Glaubhaftes winkt. Korte l
 egt scheinbar ein Tagebuch vor\, das zwischen starrem Blick aus dem Fenste
 r und sich zwischen innen und außen verschränkender Sicht ein Tableau aus his
 torischen und zeitgenössischen Momenten entfaltet\, das Zugriff aufs umgebend
 e Reale verspricht\; aber da sind die Einwände Dritter\, die immer mal ins W
 ort fallen dürfen. Schittko sammelt und notiert dieses Sammeln von Rohdaten\, o
 hne Schleifen um die Fakten zu binden ? eine lyrisch-lakonische Statistik 
 die jedes Ornament entfernt ? im so Verdichteten keimen freilich alle beis
 eite geschriebenen Empfindungen wie von selbst.Diese Formen zu schreiben s
 ind nicht auf direktem Weg unterwegs\, um ein oder zwei oder drei Ziele zu
  erreichen. Es sind Täuschungsapparaturen\, die im Formen ihrer Sprachen neu
 e Sichtweisen ermöglichen wollen. Nicht zuletzt deshalb finden sich Literatur
 en wie diese in einem österreichischen Verlag\, der in Berlin bisher fast unb
 ekannt blieb.\n\nViel Spass wünscht Gratis-in-Berlin\n\nLink zum Tip: https://w
 ww.gratis-in-berlin.de/kalender/item/2063363-ueberblenden-blenden-enden\nZ
 u den Gratis-in-Berlin Angeboten: http://www.gratis-in-berlin.de\n
DTSTART;VALUE=DATE:20231118
DTEND;VALUE=DATE:20231119
SUMMARY:überblenden. blenden. enden.
END:VEVENT
END:VCALENDAR
