BEGIN:VCALENDAR
VERSION:2.0
PRODID:-//Gratis-in-Berlin//NONSGML kigkonsult.se iCalcreator 2.14//
METHOD:PUBLISH
X-WR-CALNAME:Gratis-in-Berlin Tip Kalender
X-WR-CALDESC:Erhalte Gratis-in-Berlin Tips in deinem Kalender
BEGIN:VEVENT
UID:20260420T172610UTC-9981heW14Z@Gratis-in-Berlin
DTSTAMP:20260420T172610Z
DESCRIPTION:Ein kleines beschauliches Reich litt lange unter einer despotis
 chen Königsfamilie\, die niemanden ins Land hinein oder heraus ließ. Abgeschni
 tten von der Außenwelt\, hatten die Bewohner vergessen\, was es an Ländern un
 d Wundern jenseits der Grenze gab. Mutige stürzten schließlich die Herrscherfami
 lie und gründeten VOLKESLAND\, vom Volk selbst regiert. Um die vergessene Welt 
 jenseits der Grenzen neu zu entdecken\, suchte der gewählte Rat Freiwillige\
 , die ausschwärmen und von ihren Erlebnissen berichten sollten. Auf sie wart
 eten Ruhm\, Abenteuer und aufregende Begegnungen in Ländern voller Magie\, G
 efahren und Möglichkeiten. 29 Kundschafter zogen los\, meldeten sich regelmäßig
  beim Rat und kamen mit abenteuerlichsten Geschichten zurück. Der Rat fügte sie zu e
 inem Bericht über den wiederentdeckten Kontinent zusammen.Infos zum Schreibproj
 ekt **Markus Heitzist Fantasy-\, Horror- und Science-Fiction-Autor. Er gil
 t mit mehr als 5 Millionen verkauften Büchern allein in Deutschland als einer d
 er erfolgreichsten deutschen Fantasy-Autoren.2023 begleitete er das mittle
 rweile 13. Storytauschprojekt der Schreibwerkstatt Marzahn mit einem überzeugen
 den Konzept\, in dessen Ergebnis dieses Buch entstand.Die gemeinsame Präsent
 ation wird von Charlotte Irmelin Piotrowski (Geige) und Eddie Neumann (Git
 arre) musikalisch begleitet.Das Buch ist nach der Veranstaltung unter der 
 ISBN 978-3-00-076858-3 auch im Buchhandel erhältlich.Satz und Layout: Antje 
 PüpkeAnmeldung erbeten unter Telefon 54 704 142 oder über die WebseiteEintritt frei\
 , Austritt: eine Spende an den Förderverein Stadtbibliothek Marzahn-Hellersdo
 rf e.V. zur Mitfinanzierung der Veranstaltung.Bei einigen Veranstaltungen 
 in der Stadtbibliothek machen wir Fotos und/oder Videos\, die ggf. auf uns
 erer Webseite\, denen unserer Partner\, Facebook oder Instagram veröffentlich
 t werden.\n\nViel Spass wünscht Gratis-in-Berlin\n\nLink zum Tip: \nZu den Grat
 is-in-Berlin Angeboten: http://www.gratis-in-berlin.de\n
DTSTART;VALUE=DATE:20231125
DTEND;VALUE=DATE:20231126
SUMMARY:?Volkesland ? Aufbruch ins Unbekannte?: Buchpremiere mit der Schrei
 bwerkstatt und ihrem Co-Autor Markus Heitz
END:VEVENT
END:VCALENDAR
