BEGIN:VCALENDAR
VERSION:2.0
PRODID:-//Gratis-in-Berlin//NONSGML kigkonsult.se iCalcreator 2.14//
METHOD:PUBLISH
X-WR-CALNAME:Gratis-in-Berlin Tip Kalender
X-WR-CALDESC:Erhalte Gratis-in-Berlin Tips in deinem Kalender
BEGIN:VEVENT
UID:20260420T172611UTC-3172Ch7Z86@Gratis-in-Berlin
DTSTAMP:20260420T172611Z
DESCRIPTION:Frauen im Christentum wurden über viele Jahrhunderte kaum wahrgenomm
 en. Doch ohne sie wäre das Christentum nicht denkbar. Erst das ?Ja? von Mari
 a bereitete Christus den Weg in diese Welt. Es war Maria Magdalena\, die J
 esus zeitlebens begleitete und der er sich nach seiner Auferstehung als Er
 ste offenbarte. Und auch der Reformator Martin Luther profitierte von der 
 starken Katharina von Bora an seiner Seite. Monica Gruber leiht diesen dre
 i bedeutenden Frauen ihre Stimme. Sie liest und spielt aus dem Buch von Ch
 ristine Brückner Ungehaltene Reden ungehaltener Frauen sowie aus Luise Rinsers 
 Buch Mirjam. Dieser Abend ist eine Hommage an Gottes starke Frauen\, von d
 enen es noch so viele mehr gibt\, die gehört werden sollten. Musikalisch wird
  der Abend begleitet von der Kirchenmusikerin Daniela Biermann (Flügel)\, und C
 onstanze Kuscher (Querflöte)\, mit Stücken von weiblichen Komponistinnen. Idee und
  Regie: Marcel Reuter Ort: Thomas-Morus-Saal (im Gebäude auf dem Innenhof. Z
 ugang über die Toreinfahrt)____________________________________________________
 _______________________________________________________ Die Österreicherin 
 Monica Gruber arbeitet seit 1970 als Schauspielerin an namhaften Bühnen in Öster
 reich und Deutschland (Deutsches Schauspielhaus Hamburg\, Renaissance Thea
 ter Berlin). 1980 wurde sie für die Fernsehserie ?Die Laurents? nach Berlin geh
 olt. Darüber hinaus war sie bundesweit mit szenischen Lesungen unterwegs. Zulet
 zt drehte sie im September 2023 eine Vorabendserie für das ZDF. _______________
 __________________________________________________________________________
 __________________ Zum Ausklang laden wir Sie herzlich bei Snacks und Getr
 änken zu einem geselligen Zusammensein ein. Es wird von Frauen der katholisc
 hen Frauengemeinschaft kfd Berlin-Wilmersdorf ausgerichtet\, denen ?Gottes
  starke Frauen? ein Anliegen ist. Kontakt: Marcel Reuter 030 88 59 59 42 m
 arcel.reuter@erzbistumberlin.de\n\nViel Spass wünscht Gratis-in-Berlin\n\nLink 
 zum Tip: \nZu den Gratis-in-Berlin Angeboten: http://www.gratis-in-berlin.
 de\n
DTSTART;VALUE=DATE:20231110
DTEND;VALUE=DATE:20231111
SUMMARY:Szenische Lesung mit Musik: Gottes starke Frauen
END:VEVENT
END:VCALENDAR
