BEGIN:VCALENDAR
VERSION:2.0
PRODID:-//Gratis-in-Berlin//NONSGML kigkonsult.se iCalcreator 2.14//
METHOD:PUBLISH
X-WR-CALNAME:Gratis-in-Berlin Tip Kalender
X-WR-CALDESC:Erhalte Gratis-in-Berlin Tips in deinem Kalender
BEGIN:VEVENT
UID:20260420T141933UTC-60233VblJj@Gratis-in-Berlin
DTSTAMP:20260420T141933Z
DESCRIPTION:Henri Maximilian Jakobs stellt seinen Roman ?Paradiesische Zust
 ände? am 08. November 2023 in der Bezirkszentralbibliothek Pablo Neruda vor.
  Das Gespräch moderiert Karla Kutzner von InterKontinental.Wie viele Hamster
  lassen sich mit einem handelsüblichen Staubsauger einsaugen? Gibt es ein wicht
 igeres Lebensmittel als Pommes? Was\, wenn der eigene Körper ein Zuhause ist\
 , in dem man eigentlich keine Sekunde zu viel verbringen möchte?Von einer Ber
 liner Clubtoilette\, in der er sturzbetrunken versucht\, seinen Namen in d
 ie Rinne zu pinkeln\, blickt Johann zurück und erzählt uns seine Geschichte. Eine
  Geschichte\, die bei einem tiefen Unbehagen beginnt\, das er\, damals »sie
 «\, mit sich herumträgt wie den Schneeanzug\, die unzähligen Schichten Kleidung
 \, unter denen er seinen Körper verschwinden lässt. Die Fassungslosigkeit und A
 blehnung\, mit denen er sich selbst und die Welt wahrnimmt\, entspricht so
  ziemlich dem Unverständnis\, mit dem ihm seine Mitmenschen begegnen. Und di
 e »Zukunft«\, die vor ihm liegt\, bedeutet erstmal nichts anderes als die He
 rausforderung\, diese irgendwie hinter sich zu bringen. Der Versuch\, das 
 anzugehen\, führt ihn über eine Schauspielschule in der bayrischen Provinz und eine 
 skurrile Hipster-Wurstbude in Berlin-Neukölln zu einer wichtigen Erkenntnis. 
 Und schließlich in die Mühlen der Bürokratie ? bevor er sich\, nach einer Angleichung
  und unzähligen heiklen Gesprächen\, zum ersten Mal seit vielen Jahren bewusst
  vor einen Spiegel stellen kann.Henri Maximilian Jakobs gelingt das große K
 unstwerk\, eine Geschichte\, die an Leidensdruck und Tiefschlägen nicht unbe
 dingt arm ist\, federleicht\, versponnen und mit einem überbordenden Humor zu e
 rzählen.Henri Maximilian Jakobs\, geboren und aufgewachsen in München\, lebt als 
 Musiker\, Schauspieler und Autor in Berlin. Er ist ausgebildeter Bassist u
 nd Musikjournalist\, veröffentlicht Platten und tourt unter eigenem Namen und
  mit verschiedenen Bands. Derzeit ist er in der gefeierten Inszenierung »Da
 s Leben des Vernon Subutex« unter der Regie von Thomas Ostermeier an der Sc
 haubühne Berlin zu sehen. Als Synchronsprecher ist er unter anderem in der Netf
 lixproduktion »Ridley Jones« in der Rolle des Dante zu hören. Johanns Geschicht
 e ist auch ein bisschen seine\, auch er liebt Pommes. Zudem hätte er gerne e
 inen freundlichen Hund.- Eintritt frei- Anmeldung unter diesem Link:&nbsp\
 ;https://pretix.eu/bibxhain/Jakobs/\n\nViel Spass wünscht Gratis-in-Berlin\n\nL
 ink zum Tip: \nZu den Gratis-in-Berlin Angeboten: http://www.gratis-in-ber
 lin.de\n
DTSTART;VALUE=DATE:20231108
DTEND;VALUE=DATE:20231109
SUMMARY:Henri Maximilian Jakobs: 'Paradiesische Zustände' (Lesung & Gespräch)
END:VEVENT
END:VCALENDAR
