BEGIN:VCALENDAR
VERSION:2.0
PRODID:-//Gratis-in-Berlin//NONSGML kigkonsult.se iCalcreator 2.14//
METHOD:PUBLISH
X-WR-CALNAME:Gratis-in-Berlin Tip Kalender
X-WR-CALDESC:Erhalte Gratis-in-Berlin Tips in deinem Kalender
BEGIN:VEVENT
UID:20260420T094356UTC-2957MakwDm@Gratis-in-Berlin
DTSTAMP:20260420T094356Z
DESCRIPTION:Adrian Pourviseh stellt sein Comic-Debüt ?Das Schimmern der See. Als
  Seenotretter auf dem Mittelmeer? am 29. November 2023 in der Bezirkszentr
 albibliothek Pablo Neruda vor. Das Gespräch moderiert die Journalistin Sham 
 Jaff.Zum Buch:Mitten in der Nacht kommt der Funkspruch rein: ein doppelstöcki
 ges Holzboot mit 400 Menschen an Bord in Seenot. Der Kapitän der Sea-Watch 3
  setzt Notrufe ab: Italien\, Malta und Tunesien verweigern die Rettung\, e
 in nahegelegenes Frachtschiff ignoriert die Hilferufe und dreht ab. Die Se
 a-Watch 3 nimmt Kurs\, ein Wettlauf gegen die Zeit beginnt. Dafür haben die fre
 iwilligen Seenotretter monatelang trainiert\, jeder Handgriff muss sitzen\
 , jeder Augenblick zählt.Atemlos und beklemmend sind die Schilderungen der R
 ettungseinsätze der Crew\, deren Teil der deutsch-iranische Comiczeichner Ad
 rian Pourviseh vor zwei Jahren war. Die unmenschliche Anspannung vor und b
 ei den Einsätzen\, die Bedrohung durch die sogenannte libysche Küstenwache\, die 
 im Auftrag Europas Geflüchtete aus internationalen Gewässern verschleppt\, und di
 e hochprofessionelle Durchführung der Rettungsaktionen\, bei denen wenige Augen
 blicke zwischen Leben und Tod von Menschen entscheiden können ? Das Schimmern
  der See ist ein gezeichneter Augenzeugenbericht über den schrecklichen Alltag 
 an den Außengrenzen Europas und ein lautstarker Aufruf zu mehr Menschlichke
 it und gegen das Wegschauen.Adrian Pourviseh wurde 1995 in Koblenz geboren
 . Er studierte Orientwissenschaften in Marburg und Rabat (Marokko) und Ent
 wicklungsökonomie an der Lund University in Schweden. Neben dem Studium began
 n er als freiwilliger Dolmetscher fu?r geflu?chtete Jugendliche zu arbeite
 n. Ab 2019 ging er als Dolmetscher und Fotograf auf die Sea-Watch 3 und ha
 lf als Freiwilliger auf der Insel Lesbos. Seine Erlebnisse hielt er als il
 lustrierte Tagebucheinträge fest und stellte sie im Frankfurter Weltkulturen
  Museum aus. Adrian Pourviseh wohnt in Marburg\, wo er seit 2022 als freis
 chaffender Comic-Autor arbeitet.Sham Jaff ist freie Journalistin in Berlin
 . Sie berichtet zu Themen wie Rassismus und Flucht. Jede Woche schreibt si
 e den von der Bundesregierung als Kultur- und Kreativpiloten 2021 ausgezei
 chnete Newsletter ?what happened last week?\, in dem sie unterrepräsentierte
  Nachrichten aus Asien\, Afrika und Lateinamerika kuratiert. Für ihren Podcast 
 ?190220 ? Ein Jahr nach Hanau? erhielt Jaff den Grimme Online Award 2021.-
  Eintritt frei- Anmeldung unter diesem Link:&nbsp\;https://pretix.eu/bibxh
 ain/Pourviseh/\n\nViel Spass wünscht Gratis-in-Berlin\n\nLink zum Tip: \nZu den
  Gratis-in-Berlin Angeboten: http://www.gratis-in-berlin.de\n
DTSTART;VALUE=DATE:20231129
DTEND;VALUE=DATE:20231130
SUMMARY:Adrian Pourviseh: 'Das Schimmern der See' (Comic-Lesung & Gespräch)
END:VEVENT
END:VCALENDAR
