BEGIN:VCALENDAR
VERSION:2.0
PRODID:-//Gratis-in-Berlin//NONSGML kigkonsult.se iCalcreator 2.14//
METHOD:PUBLISH
X-WR-CALNAME:Gratis-in-Berlin Tip Kalender
X-WR-CALDESC:Erhalte Gratis-in-Berlin Tips in deinem Kalender
BEGIN:VEVENT
UID:20260422T083640UTC-09891UmPgU@Gratis-in-Berlin
DTSTAMP:20260422T083640Z
DESCRIPTION:Bücher ermöglichen es\, dass unsere Fantasie angeregt wird und wir aus 
 unserem Alltag fliehen können. Allerdings gibt es auch in der Literatur Aussc
 hluss oder Verbreitungen von Stereotypen.Mit dieser Veranstaltung möchte TrIQ
  e.V. in Kooperation mit Migrantas und der Bezirkszentralbibliothek Pablo 
 Neruda einladen über dieses Thema zu reden. Was für Lieblingsbücher haben wir? Wo findet 
 Präsentation statt und wo Ausschluss? Was ist uns beim Lesen aufgefallen?Wir
  möchten einen saferen Space bieten\, die Veranstaltung ist speziell als Aust
 ausch für marginalisierte Personen gedacht\, Allies sind aber herzlich willkomm
 en ? wir weisen jedoch auf einen respektvollen Umgang hin. Wir bitten um A
 nmeldung via: inter@transinterqueer.orgEine Biblioaktivität in Zusammenarbei
 t mit TrIQ e.V. im Rahmen von UNSERE BIBLIOTHEK = UNSERE VIELFALT / Persönlic
 he Widmung (https://www.berlin.de/stadtbibliothek-friedrichshain-kreuzberg
 /wir-ueber-uns/projekte/unsere-bibliothek-unsere-vielfalt-1346057.php). Ei
 n Kooperations-Projekt von Migrantas mit der Stadtbibliothek Friedrichshai
 n-Kreuzberg.- Entritt frei\n\nViel Spass wünscht Gratis-in-Berlin\n\nLink zum T
 ip: \nZu den Gratis-in-Berlin Angeboten: http://www.gratis-in-berlin.de\n
DTSTART;VALUE=DATE:20231123
DTEND;VALUE=DATE:20231124
SUMMARY:Bücher diskriminierungssensibel lesen und besprechen
END:VEVENT
END:VCALENDAR
