BEGIN:VCALENDAR
VERSION:2.0
PRODID:-//Gratis-in-Berlin//NONSGML kigkonsult.se iCalcreator 2.14//
METHOD:PUBLISH
X-WR-CALNAME:Gratis-in-Berlin Tip Kalender
X-WR-CALDESC:Erhalte Gratis-in-Berlin Tips in deinem Kalender
BEGIN:VEVENT
UID:20260420T143245UTC-5803A6BUPB@Gratis-in-Berlin
DTSTAMP:20260420T143245Z
DESCRIPTION:Moderation Shelly KupferbergEin Sommer zwischen Berlin\, Chicag
 o und Jerusalem. Wie jedes Jahr verbringt die fünfzehnjährige Margarita ihre Feri
 en bei den Großeltern in den USA. Viel lieber will sieaber zurück nach Deutschla
 nd\, zu ihren Freunden und ihrem Vater\, der in einer Synagoge die Gebete 
 leitet. Die Mutter hat die beiden verlassen\, als Margarita noch in den Ki
 ndergarten ging. Höchste Zeit\, beschließt der Familienrat\, dass sie einander
  besser kennenlernen. Und so wird Margarita in ein Flugzeug nach Israel ge
 setzt\, wo ihr Vater aufgewachsen ist und ihre Mutter seit Kurzem lebt. Gl
 eich nach der Ankunft geht alles schief\, die gemeinsame Reise von Mutter 
 und Tochter durchs Heilige Land reißt alte und neue Wunden auf\, Konflikte 
 eskalieren\, während der Vater in Berlin seine Rolle überdenkt. Da müssen sie schon wi
 eder die Koffer packen und zurück nach Chicago\, wo sich alle um das Krankenbet
 t der Großmutter versammeln und Margarita eine folgenreiche Entscheidung tr
 effen muss.Von großen und kleinen Lügen\, Glücksmomenten und Enttäuschungen\, von Zunei
 gung und Schmerz erzählt Dana Vowinckel in ihrem Debütroman. Gewässer im Ziplock is
 t eine mitreißende Familiengeschichte zwischen jüdischer Tradition und deutschem
  »Gedächtnistheater«. Eine Geschichte voller Leben und Menschlichkeit.Kostenfr
 eier Workshop in der Anton-Saefkow-Bibliothek.Anmeldung unter: stadtbiblio
 thek@lichtenberg.berlin.de Im Rahmen der verlängerten Bibliotheksöffnungszeiten
 . Ermöglicht durch das Netzwerk der Wärme. Das Netzwerk der Wärme ist initiiert u
 nd finanziert vom Berliner Senat.\n\nViel Spass wünscht Gratis-in-Berlin\n\nLin
 k zum Tip: \nZu den Gratis-in-Berlin Angeboten: http://www.gratis-in-berli
 n.de\n
DTSTART;VALUE=DATE:20231118
DTEND;VALUE=DATE:20231119
SUMMARY:Lesung mit Dana Vowinckel I Gewässer im Ziplock
END:VEVENT
END:VCALENDAR
