BEGIN:VCALENDAR
VERSION:2.0
PRODID:-//Gratis-in-Berlin//NONSGML kigkonsult.se iCalcreator 2.14//
METHOD:PUBLISH
X-WR-CALNAME:Gratis-in-Berlin Tip Kalender
X-WR-CALDESC:Erhalte Gratis-in-Berlin Tips in deinem Kalender
BEGIN:VEVENT
UID:20260420T130219UTC-1598xc5DU1@Gratis-in-Berlin
DTSTAMP:20260420T130219Z
DESCRIPTION:In der Humboldt-Bibliothek!Auf den Spuren von Stars\, Kinos und
  Hauptstadtfilmen - Oliver Ohmann erzähltdie Geschichte der Filmstadt Berlin
 . Von den Anfängen bis zur Coronakrise.Mit ?Nebelbildern? aus einer Camera M
 agica zogen die Brüder Skladanowsky einst durch Europa. Max Skladanowsky war ei
 n Tüftler und konstruierte nebenbei einen Apparat\, der bewegte Bilder filmen u
 nd nach der Entwicklung wieder auf eine Leinwand projizieren konnte. So er
 lebten 2000 Berliner 1895 im Wintergarten-Varieté die Geburtsstunde des Kino
 s in Deutschland. Die ersten Filme waren noch abgefilmtes Varieté.Nach dem E
 rsten Weltkrieg entwickelte sich Berlin zu einer der ersten und wichtigste
 n Filmmetropolen der Welt. Bis 1933 entstanden viele Meisterwerke\, von ?C
 aligari? bis ?Metropolis?. Weltberühmte Regisseure und Schauspieler prägten diese
  Zeit\, von Ernst Lubitsch bis zu Marlene Dietrich.1933 beendeten die Nazi
 s diese glänzende Kinoepoche\, unzählige Filmkünstler verließen Deutschland\, wurden
  verfolgt und ermordet.Nach dem Krieg dann ein Comeback mit Trümmerfilmen\, Ber
 linale und Neuem Deutschen Film.Die spannende und abenteuerliche Geschicht
 e der Filmstadt Berlin ist in vollem Gange. Themen genug für eine spanende Lesu
 ng und Gespräch über Filme\, Kinos und die Menschen\, welche die Bilder zum Laufe
 n bringen.Oliver Ohmann\, geboren 1969 in Berlin\, lebt in Hermsdorf. Er s
 chreibt als Journalist für die B.Z. über Berlin\, in verschiedenen Büchern über Berlin-\, Spor
 t- und Filmgeschichte\n\nViel Spass wünscht Gratis-in-Berlin\n\nLink zum Tip: 
 \nZu den Gratis-in-Berlin Angeboten: http://www.gratis-in-berlin.de\n
DTSTART;VALUE=DATE:20231117
DTEND;VALUE=DATE:20231118
SUMMARY:'Klappe! - Eine Geschichte der Filmstadt Berlin' - Oliver Ohmann li
 est!
END:VEVENT
END:VCALENDAR
