BEGIN:VCALENDAR
VERSION:2.0
PRODID:-//Gratis-in-Berlin//NONSGML kigkonsult.se iCalcreator 2.14//
METHOD:PUBLISH
X-WR-CALNAME:Gratis-in-Berlin Tip Kalender
X-WR-CALDESC:Erhalte Gratis-in-Berlin Tips in deinem Kalender
BEGIN:VEVENT
UID:20260420T130640UTC-2598o5193c@Gratis-in-Berlin
DTSTAMP:20260420T130640Z
DESCRIPTION:Mit Prof Dr. Michael Wala (Ruhr-Universität Bochum) und Prof. Dr.
  Daniela Münkel (Stasi-Unterlagen-Archiv)Michael Wala erhielt uneingeschränkten Z
 ugang zum Geheimarchiv der Spionageabwehr des Bundesamts für Verfassungsschutz.
  Sein Buch legt erstmals offen\, mit welchen Methoden der Verfassungsschut
 z versuchte\, DDR-Spione ausfindig zu machen und welchen Erfolg er dabei h
 atte. Dabei widerlegt er zahlreiche Mythen.\n\nViel Spass wünscht Gratis-in-Ber
 lin\n\nLink zum Tip: \nZu den Gratis-in-Berlin Angeboten: http://www.grati
 s-in-berlin.de\n
DTSTART;VALUE=DATE:20231123
DTEND;VALUE=DATE:20231124
SUMMARY:Lesebühne: Der Stasi-Mythos. DDR-Auslandsspionage und der Verfassungssch
 utz
END:VEVENT
END:VCALENDAR
