BEGIN:VCALENDAR
VERSION:2.0
PRODID:-//Gratis-in-Berlin//NONSGML kigkonsult.se iCalcreator 2.14//
METHOD:PUBLISH
X-WR-CALNAME:Gratis-in-Berlin Tip Kalender
X-WR-CALDESC:Erhalte Gratis-in-Berlin Tips in deinem Kalender
BEGIN:VEVENT
UID:20260422T094356UTC-6592ZUvmAG@Gratis-in-Berlin
DTSTAMP:20260422T094356Z
DESCRIPTION:Buchpremiere im Lessinghaus / Gedenkbibliothek e.V.:  Inge Ruth
  Marcus stellt ihren neuen Roman 'Wasser unter Wüsten - Ein Forscherleben zwisc
 hen den Weltkriegen' vor.Die Autorin schildert in diesem Roman die Lebensg
 eschichte ihres Vaters\, des Asienforschers Helmut Westphal\, der in der e
 rsten Hälfte des 20. Jahrhunderts lebte. Seine Expeditionen führten ihn als Karaw
 anenführer\, Dolmetscher und Forscher durch China\, die Mongolei\, Russland ode
 r Japan. Als das NS-Regime Deutschland übernimmt\, schließt er sich dem Widersta
 nd um Admiral Canaris an. 1945 wird er in sowjetische Gulags verschleppt. 
 Nach Kriegsende versucht seine Familie\, ihre überlebenden Mitglieder wiederzuf
 inden. 'Wasser unter Wüsten' ist die Fortsetzung der Familiengeschichte des ers
 ten Romans von Inge Ruth Marcus\, 'Glut im Eis - Vier Generationen in fünf Dikt
 aturen'.Ort: Lessinghaus / Gedenkbibliothek e.V.&nbsp\;&nbsp\;&nbsp\;&nbsp
 \;&nbsp\;&nbsp\; Nikolaikirchplatz 7\, 10178 BerlinBeginn: 18.00 Uhr Der E
 intritt ist frei.\n\nViel Spass wünscht Gratis-in-Berlin\n\nLink zum Tip: \nZu 
 den Gratis-in-Berlin Angeboten: http://www.gratis-in-berlin.de\n
DTSTART;VALUE=DATE:20231110
DTEND;VALUE=DATE:20231111
SUMMARY:'Wasser unter Wüsten' - Lesung mit Inge Ruth Marcus im Lessinghaus
END:VEVENT
END:VCALENDAR
