BEGIN:VCALENDAR
VERSION:2.0
PRODID:-//Gratis-in-Berlin//NONSGML kigkonsult.se iCalcreator 2.14//
METHOD:PUBLISH
X-WR-CALNAME:Gratis-in-Berlin Tip Kalender
X-WR-CALDESC:Erhalte Gratis-in-Berlin Tips in deinem Kalender
BEGIN:VEVENT
UID:20260420T080620UTC-4712xwV3rV@Gratis-in-Berlin
DTSTAMP:20260420T080620Z
DESCRIPTION:Hamed Abboud ist als Geschichtenerzähler ein Kulturenverbinder un
 d Brückenbauer par excellence. In seinem neuen\, auf Deutsch verfassten Buch be
 richtet er von seinem Aufwachsen in der syrischen Provinzstadt Deir al-Zor
 \, wo sein Vater als Mathematiklehrer und als Inhaber einer Bäckerei tätig war
 . Aus erinnerten Episoden webt er einen zauberhaften Geschichtenteppich\, 
 der das Leben der Familie Abboud wie kleine Filmszenen vor unseren Augen a
 ufscheinen lässt.Im Mittelpunkt des erzählerischen Mosaiks steht der umsichtig
 e Vater\, der mit besonderem Humor die Geschicke der Bäckerei und der Famili
 e zu verbinden weiß. Entscheidende Fäden hält freilich die Mutter in der Hand\,
  die als »Ausbildungskreuzritterin« die Zimmerwände mit Lehrstoff bekritzelt\,
  um den schulischen Erfolg ihrer Kinder zu beflügeln\, und so die Wohnung zu ei
 nem »Matura-Trainingslager« macht.Wir erfahren aber auch\, wie Sohn Hamed tr
 otz all ihrer Versuche\, ihn in die Bahn einer vernünftigen Berufsausbildung zu
  lenken\, sich zum Schriftsteller entwickelt ? und wie er letztlich sogar 
 seine Mutter damit überzeugt.\n\nViel Spass wünscht Gratis-in-Berlin\n\nLink zum Tip
 : \nZu den Gratis-in-Berlin Angeboten: http://www.gratis-in-berlin.de\n
DTSTART;VALUE=DATE:20231118
DTEND;VALUE=DATE:20231119
SUMMARY:?Meine vielen Väter? ? Lesung und Gespräch mit Hamed Abboud
END:VEVENT
END:VCALENDAR
