BEGIN:VCALENDAR
VERSION:2.0
PRODID:-//Gratis-in-Berlin//NONSGML kigkonsult.se iCalcreator 2.14//
METHOD:PUBLISH
X-WR-CALNAME:Gratis-in-Berlin Tip Kalender
X-WR-CALDESC:Erhalte Gratis-in-Berlin Tips in deinem Kalender
BEGIN:VEVENT
UID:20260424T100017UTC-0830MeMHWb@Gratis-in-Berlin
DTSTAMP:20260424T100017Z
DESCRIPTION:ChatGPT kann angeblich alles.Aber kann es auch Punk?Diese Frage
  wird an diesem Abend in drei Schritten beantwortet:Los geht?s mit einem k
 urzen Vortrag zur Geschichte sog. Künstlicher Intelligenz von Alan Turing bis C
 hatGPT und zu den ideologischen Grundlagen von KI. Weil?s in der Veranstal
 tung um Punk geht\, darf dabei natürlich die kritische Kommentierung mit dem Bl
 ick auf?s gute Leben für Alle nicht fehlen.Dann geht?s weiter mit einem Erfahru
 ngsbericht über Versuche\, mit Hilfe von ChatGPT PunkRock-Lyrics zu schreiben.Z
 um Schluss darf die KI selbst ran und live einen PunkRock-Text erstellen.D
 er Raum für Diskussion ist dann geöffnet.\n\nViel Spass wünscht Gratis-in-Berlin\n\nLin
 k zum Tip: \nZu den Gratis-in-Berlin Angeboten: http://www.gratis-in-berli
 n.de\n
DTSTART;VALUE=DATE:20231116
DTEND;VALUE=DATE:20231117
SUMMARY:Ist das Punk oder kann das wech? - ChatGPT-Edition
END:VEVENT
END:VCALENDAR
