BEGIN:VCALENDAR
VERSION:2.0
PRODID:-//Gratis-in-Berlin//NONSGML kigkonsult.se iCalcreator 2.14//
METHOD:PUBLISH
X-WR-CALNAME:Gratis-in-Berlin Tip Kalender
X-WR-CALDESC:Erhalte Gratis-in-Berlin Tips in deinem Kalender
BEGIN:VEVENT
UID:20260420T142644UTC-7932p4d2hH@Gratis-in-Berlin
DTSTAMP:20260420T142644Z
DESCRIPTION:ZwischenWelten ist ein Kooperationsprojekt von Gangway ? Straßen
 sozialarbeit in Berlin e.V. und der Jugendstrafanstalt Berlin Die Wanderau
 sstellung ?Wohin gehörst du?? präsentiert Ergebnisse aus kreativen Workshops in
 nerhalb und außerhalb des Gefängnisses. Sie thematisiert die Auseinandersetzu
 ng der TeilnehmerInnen mit ihren Erlebnissen\, Hoffnungen\, Wünschen und Konfli
 kten. Berührende Geschichten\, Gedichte und Fotografien sind entstanden\, die f
 ür die TeilnehmerInnen ein Schlüssel für die konstruktive Bewältigung der Gegenwart und Zuk
 unft sein können\, indem sie sich ihrer eigenen Ressourcen bewusst werden. 16
 .11.2023\, 19 Uhr Lesung und Gesprächsrunde Begleitend zur Ausstellung möchten 
 wir Sie herzlich zu einer Lesung einladen\, in der ein Teilnehmer des Proj
 ektes zusammen mit seiner Schwester beschreibt\, was es bedeutet\, zwische
 n den Welten zu leben: Zwischen Herkunft und Zukunft\, zwischen Freiheit u
 nd Gefangenschaft\, zwischen Hoffnung und Verzweiflung. Im Anschluss an di
 e eindrucksvollen Geschichten der beiden\, freuen wir uns auf einen offene
 n Austausch mit vielen Fragen\, aber auch Antworten auf die Herausforderun
 gen der Gegenwart. 14. und 29.11.2023\, 17 Uhr Öffentliche Führung durch die Aus
 stellung Bitte melden Sie sich für die Lesung und Führungen per E-Mail an: zwischenw
 elten@gangway.de. Der Eintritt ist frei!\n\nViel Spass wünscht Gratis-in-Berlin
 \n\nLink zum Tip: https://www.gratis-in-berlin.de/kalender/item/2064296-au
 sstellung-zwischenwelten-und-lesung\nZu den Gratis-in-Berlin Angeboten: ht
 tp://www.gratis-in-berlin.de\n
DTSTART;VALUE=DATE:20231116
DTEND;VALUE=DATE:20231117
SUMMARY:Ausstellung ZwischenWelten und Lesung 
END:VEVENT
END:VCALENDAR
