BEGIN:VCALENDAR
VERSION:2.0
PRODID:-//Gratis-in-Berlin//NONSGML kigkonsult.se iCalcreator 2.14//
METHOD:PUBLISH
X-WR-CALNAME:Gratis-in-Berlin Tip Kalender
X-WR-CALDESC:Erhalte Gratis-in-Berlin Tips in deinem Kalender
BEGIN:VEVENT
UID:20260422T083639UTC-0889UbluK2@Gratis-in-Berlin
DTSTAMP:20260422T083639Z
DESCRIPTION:Lesung und Akustikset mit Reverend Dabeler und&nbsp\;Alyssa Fen
 ner10 Jahre nach dem traurigen Abschied von Almut Klotz\, ist der Erzählungs
 band ?Tamara und Konsorten? von Klotz + Dabeler nun als erweiterte Neuausg
 abe im Verbrecher Verlag herausgekommen. 2 Songs die damals dazu von Almut
  geschrieben wurden\, ?Heinz? und ?Universell? erscheinen nun als Digitals
 ingle.Erstmalig ist jetzt auch ihr Debütalbum ?Menschen an sich? als Vinylediti
 on bei Misitunes erscheinen.Grund genug für Reverend ein paar Lesungen und Konz
 erte zu geben. Alyssa Fenner vom Verbrecher Verlag wird die Parts von Almu
 t lesen und bei Gelegenheit einige Fragen an Rev stellen.\n\nViel Spass wünscht
  Gratis-in-Berlin\n\nLink zum Tip: \nZu den Gratis-in-Berlin Angeboten: ht
 tp://www.gratis-in-berlin.de\n
DTSTART;VALUE=DATE:20231119
DTEND;VALUE=DATE:20231120
SUMMARY:Tamara und Konsorten im 'Goldenen Hahn'\, Heinrichplatz
END:VEVENT
END:VCALENDAR
