BEGIN:VCALENDAR
VERSION:2.0
PRODID:-//Gratis-in-Berlin//NONSGML kigkonsult.se iCalcreator 2.14//
METHOD:PUBLISH
X-WR-CALNAME:Gratis-in-Berlin Tip Kalender
X-WR-CALDESC:Erhalte Gratis-in-Berlin Tips in deinem Kalender
BEGIN:VEVENT
UID:20260420T173144UTC-3158jHoK5U@Gratis-in-Berlin
DTSTAMP:20260420T173144Z
DESCRIPTION:Lesung der Autorengruppe LiT (Literatur in Tempelhof) zum Thema
  'Fiese Geschichten' mit Musik der Berliner Rockband CRAZY SALLY (Rock\, P
 op\, Punk\, Indie) - diesmal unplugged.&nbsp\;Veranstalter: TKK (Tempelhof
 er Kunst- und Kulturverein)Ort: Rathaus Schöneberg\, Theodor-Heuss-Saal&nbsp\
 ;\n\nViel Spass wünscht Gratis-in-Berlin\n\nLink zum Tip: \nZu den Gratis-in-Be
 rlin Angeboten: http://www.gratis-in-berlin.de\n
DTSTART;VALUE=DATE:20231123
DTEND;VALUE=DATE:20231124
SUMMARY:Lesung und Musik am 23.11.23 im Schöneberger Rathaus\, 19 Uhr 
END:VEVENT
END:VCALENDAR
