BEGIN:VCALENDAR
VERSION:2.0
PRODID:-//Gratis-in-Berlin//NONSGML kigkonsult.se iCalcreator 2.14//
METHOD:PUBLISH
X-WR-CALNAME:Gratis-in-Berlin Tip Kalender
X-WR-CALDESC:Erhalte Gratis-in-Berlin Tips in deinem Kalender
BEGIN:VEVENT
UID:20260420T160708UTC-3265u9KuvD@Gratis-in-Berlin
DTSTAMP:20260420T160708Z
DESCRIPTION:?Ruhmlose Helden? Ein Flugzeugabsturz und die Tücken deutsch-russisc
 her Verständigung. Buchvorstellung am 24.11.2023Einladung zur Lesung und Ges
 präch mit Journalisten und Autoren Gesine Dornblüth und Thomas Franke am Freitag\
 , den 24.November 2023 um 19:00 Uhr bei KONTAKTE-KOHTAKTbI e. V.\, Feurigs
 traße 68\, 10827 Berlin-SchönebergAm 6. April 1966 stürzte ein sowjetischer Jagdbom
 ber in den West-Berliner Stößensee. Obwohl die beiden Piloten womöglich ihr Lebe
 n opferten\, um Hunderte Menschenleben zu retten\, wurden sie später in Ost 
 und West nur halbherzig geehrt.In ihrem Buch rekonstruieren Gesine Dornblüth un
 d Thomas Franke die dramatischen Ereignisse\, die damals die Weltöffentlichke
 it in Atem hielten\, und zeigen\, wie die Erinnerung daran bis heute nachw
 irkt. Dabei wird deutlich\, warum der Blick auf den Kalten Krieg in Deutsc
 hland und Russland immer noch weit auseinandergeht und einem Miteinander i
 m Weg steht.Dr. Gesine Dornblüth\, geboren 1969\, ist promovierte Slavistin und
  Hörfunkjournalistin. Von 2012 bis 2017 war sie Deutschlandfunk-Korrespondent
 in in Moskau. Seit Beginn der 1990er Jahre unternahm sie zahlreiche Recher
 chereisen nach Russland\, später in den gesamten postsowjetischen Raum. 2001
  wurde sie (gemeinsam mit Thomas Franke) mit dem Prix Europa ausgezeichnet
 .Thomas Franke\, geboren 1967\, ist Journalist\, Autor und Produzent für SWR\, 
 Deutschland- funk\, BBC und andere. Von 2012 bis 2017 lebte er in Moskau. 
 Zuletzt erschienen von ihm das Buch ?Russian Angst ? Einblicke in die post
 sowjetische Seele? und das Band mit Erzählungen ?An den Kaukasus gekettet?.A
 m Klavier: Pianist und Musikwissenschaftler Dr. Gottfried EberleDas Buch k
 ostet 20 ? und kann bei der Veranstaltung erworben und signiertwerden.Im A
 nschluss laden wir Sie traditionell zu Gespräch und Austausch untereinander 
 und mit unseren Gästen bei einem Getränk und etwas zu Essen ein.Eintritt frei.
 Wir bitten um Anmeldung per E-Mail: info@kontakte-kontakty.de\,Telefon: +4
 9 30 78 70 52 88Mehr unter: https://www.facebook.com/kontaktekontakty\n\nV
 iel Spass wünscht Gratis-in-Berlin\n\nLink zum Tip: \nZu den Gratis-in-Berlin A
 ngeboten: http://www.gratis-in-berlin.de\n
DTSTART;VALUE=DATE:20231124
DTEND;VALUE=DATE:20231125
SUMMARY:Ein Flugzeugabsturz und die Tücken deutsch-russischer Verständigung
END:VEVENT
END:VCALENDAR
