BEGIN:VCALENDAR
VERSION:2.0
PRODID:-//Gratis-in-Berlin//NONSGML kigkonsult.se iCalcreator 2.14//
METHOD:PUBLISH
X-WR-CALNAME:Gratis-in-Berlin Tip Kalender
X-WR-CALDESC:Erhalte Gratis-in-Berlin Tips in deinem Kalender
BEGIN:VEVENT
UID:20260422T152022UTC-73986bDVHb@Gratis-in-Berlin
DTSTAMP:20260422T152022Z
DESCRIPTION:Am kommenden Dienstag\, 28. November 2023 um 16 Uhr stellen wir
  unsere neue Publikation ?50 Jahre Wohnstift Otto Dibelius? vor. Im Zentru
 m der neuen Publikation stehen die Menschen im Wohnstift. In Form von Text
 en und Fotos kommen vier BewohnerInnen\, drei Mitarbeiterinnen und der ehe
 malige Direktor zu Wort. In den von uns geführten Interviews wird der enge Bezu
 g und der Austausch zwischen BewohnerInnen und MitarbeiterInnen deutlich. 
 Neben den Interviews\, Festreden und historischen Fotos im Buch entstand a
 ußerdem eine umfassende und sehr besondere Chronik unseres Hauses. Der derz
 eitige Direktor Michael Eismann wird die Publikation vorstellen.\n\nViel S
 pass wünscht Gratis-in-Berlin\n\nLink zum Tip: \nZu den Gratis-in-Berlin Angebo
 ten: http://www.gratis-in-berlin.de\n
DTSTART;VALUE=DATE:20231128
DTEND;VALUE=DATE:20231129
SUMMARY:Buchpremiere: 50 Jahre Wohnstift Otto Dibelius
END:VEVENT
END:VCALENDAR
