BEGIN:VCALENDAR
VERSION:2.0
PRODID:-//Gratis-in-Berlin//NONSGML kigkonsult.se iCalcreator 2.14//
METHOD:PUBLISH
X-WR-CALNAME:Gratis-in-Berlin Tip Kalender
X-WR-CALDESC:Erhalte Gratis-in-Berlin Tips in deinem Kalender
BEGIN:VEVENT
UID:20260419T151954UTC-79404FXd2z@Gratis-in-Berlin
DTSTAMP:20260419T151954Z
DESCRIPTION:Der Klimawandel schreitet voran\, auch die Artenvielfalt auf un
 serem Planeten schwindet. Aber wie wäre es\, wenn wir noch die Kurve kriegen
 ? Teilnehmende der Kreativen Schreibwerkstatt haben gemeinsam mit Katrin I
 mma Deibert\, Autorin und Lektorin\, und Antonia Rötger\, Wissenschaftsredakt
 eurin\, schreibend erkundet\, wie sich unsere Zukunft anfühlen könnte. In lebendig
 en Texten erzählen sie vom Anpassen und Aufbegehren\, von Sehnsucht und Verl
 angen\, vom Weggehen und Ankommen.Einlass ab 18:15 Uhr\, Start der Lesung 
 um 18:30 Uhr.Im Rahmen des Projektes 'Globales Lernen an der vhs' von DVV 
 International gefördert durch ENGAGEMENT GLOBAL mit finanzieller Unterstützung des
  Bundesministeriums für wirtschaftliche Zusammenarbeit und Entwicklung.Ingeborg
 -Drewitz-Bibliothek\, 12165 Berlin\, Grunewaldstr. 3\, VeranstaltungsraumD
 i\, 02.06.2026\, 18:30 - 20:30Die Teilnahme ist kostenlos\, um vorherige A
 nmeldung wird gebeten (Referenznummer: SZ210-306): per E-Mail an service@v
 hssz.de oder telefonisch unter 030 90299 6156.\n\nViel Spass wünscht Gratis-in-
 Berlin\n\nLink zum Tip: \nZu den Gratis-in-Berlin Angeboten: http://www.gr
 atis-in-berlin.de\n
DTSTART;VALUE=DATE:20260602
DTEND;VALUE=DATE:20260603
SUMMARY:Lesung: Kurze Geschichten aus der Klimazukunft
END:VEVENT
END:VCALENDAR
