BEGIN:VCALENDAR
VERSION:2.0
PRODID:-//Gratis-in-Berlin//NONSGML kigkonsult.se iCalcreator 2.14//
METHOD:PUBLISH
X-WR-CALNAME:Gratis-in-Berlin Tip Kalender
X-WR-CALDESC:Erhalte Gratis-in-Berlin Tips in deinem Kalender
BEGIN:VEVENT
UID:20260420T120124UTC-804660Xgbv@Gratis-in-Berlin
DTSTAMP:20260420T120124Z
DESCRIPTION:Angela Ping-Fen Hsu cordially invites you to the presentation o
 f her trilingual poetry book ?Insomniac Shark?. The book was largely writt
 en here in the Pablo Neruda District Central Library and we are very pleas
 ed that the book presentation can also take place in our rooms.Following t
 he reading in German\, English and Chinese\, the author invites you to a r
 ound of Taiwanese oolong tea.Angela Ping-Fen Hsu is an advertising profess
 ional\, curator and poet\, born in Taiwan and currently living in Berlin-F
 riedrichshain. She holds a Master of Business Administration from the Univ
 ersity of Surrey in the U.K.Moderation: Barbara MüllerPiano: Marcus DrewsLesen 
 ? Englisch: Emma WhiteLesen ? Deutsch: Malte Kießler- Bezirkszentralbibliot
 hek Pablo Neruda- Free admission- Event in English- Registration under thi
 s link: https://pretix.eu/bibxhain/shark/\n\nViel Spass wünscht Gratis-in-Berli
 n\n\nLink zum Tip: \nZu den Gratis-in-Berlin Angeboten: http://www.gratis-
 in-berlin.de\n
DTSTART;VALUE=DATE:20240806
DTEND;VALUE=DATE:20240807
SUMMARY:Beyond Borders: Insomniac Shark - a tri-lingual poetry reading
END:VEVENT
END:VCALENDAR
