BEGIN:VCALENDAR
VERSION:2.0
PRODID:-//Gratis-in-Berlin//NONSGML kigkonsult.se iCalcreator 2.14//
METHOD:PUBLISH
X-WR-CALNAME:Gratis-in-Berlin Tip Kalender
X-WR-CALDESC:Erhalte Gratis-in-Berlin Tips in deinem Kalender
BEGIN:VEVENT
UID:20260419T132334UTC-3040nVjoIN@Gratis-in-Berlin
DTSTAMP:20260419T132334Z
DESCRIPTION:Please join us for an evening with New Yorker cartoonist Amy Ku
 rzweil\, as she reads from and discusses her most recent graphic memoir\, 
 Artificial: A Love Story\, a personal story about the future of the past a
 nd an investigation into how art and technology can deepen our quest for m
 eaning and connection.In Artificial\, we meet the Kurzweils\, a family of 
 creators who are preserving their history through unusual means. At the ce
 nter is renowned inventor and futurist Ray Kurzweil\, who has long been sa
 ving the documents of his deceased father\, Fredric\, an accomplished cond
 uctor and pianist from Vienna who fled the Nazis in 1938. Once\, Fred?s li
 fe was saved by his art: an American benefactor\, impressed by Fred?s musi
 cal genius\, sponsored his emigration to the United States. He escaped jus
 t one month before Kristallnacht. Now\, Fred has returned. Through AI and 
 salvaged writing\, Ray is building a chatbot that writes in Fred?s voice\,
  and he enlists his daughter Amy to help him ensure the immortality of the
 ir family?s fraught inheritance. Artificial: A Love Story was a New Yorker
  Best Book of 2023\, an NPR Book We Love\, A Powell?s Pick of the Season\,
  a Kirkus Best Nonfiction of 2023 and a Booklist Editors? Choice Graphic N
 ovel\, among other accolades. The German translation will be available in 
 October 2024 with Verlaghaus Jacoby &amp\; Stuart.An event by the American
  Academy in Berlin.Sign up to attend in person or watch the livestream wit
 hout registration.\n\nViel Spass wünscht Gratis-in-Berlin\n\nLink zum Tip: http
 s://www.gratis-in-berlin.de/kalender/item/2069242-artificial-a-love-story
 \nZu den Gratis-in-Berlin Angeboten: http://www.gratis-in-berlin.de\n
DTSTART;VALUE=DATE:20241120
DTEND;VALUE=DATE:20241121
SUMMARY:Artificial: A Love Story
END:VEVENT
END:VCALENDAR
