BEGIN:VCALENDAR
VERSION:2.0
PRODID:-//Gratis-in-Berlin//NONSGML kigkonsult.se iCalcreator 2.14//
METHOD:PUBLISH
X-WR-CALNAME:Gratis-in-Berlin Tip Kalender
X-WR-CALDESC:Erhalte Gratis-in-Berlin Tips in deinem Kalender
BEGIN:VEVENT
UID:20260420T123248UTC-62978m4wpO@Gratis-in-Berlin
DTSTAMP:20260420T123248Z
DESCRIPTION:Viele lesen\, doch kaum einer spricht darüber. Dabei ist der Austaus
 ch über Gelesenes gewinnbringend für alle\, zumal der Überblick über den deutschen Buchmar
 kt mit jährlich 100.000 Neuerscheinungen nahezu unmöglich ist. Bibliothekarinne
 n der Stadtbibliothek Marzahn-Hellersdorf stellen in gemütlichem Ambiente ihre 
 Lieblingsbücher vor und sprechen über ihre Leseerlebnisse auch jenseits der Bestsell
 erlisten. Die Auswahl zieht sich durch alle Genres hindurch ? vom Roman über da
 s Sachbuch\, Hörbuch und Kinderbuch\, Altes und Neues.Von 17:00 - 18:00 Uhr__
 __Diese Veranstaltung ist Teil der Nacht der Bibliotheken 2025. Weitere In
 formationen:https://www.nachtderbibliotheken.de/\n\nViel Spass wünscht Gratis-i
 n-Berlin\n\nLink zum Tip: \nZu den Gratis-in-Berlin Angeboten: http://www.
 gratis-in-berlin.de\n
DTSTART;VALUE=DATE:20250404
DTEND;VALUE=DATE:20250405
SUMMARY:Bibliotheksmitarbeitende stellen ihre Lieblingsbücher vor | Nacht der Bi
 bliotheken
END:VEVENT
END:VCALENDAR
