BEGIN:VCALENDAR
VERSION:2.0
PRODID:-//Gratis-in-Berlin//NONSGML kigkonsult.se iCalcreator 2.14//
METHOD:PUBLISH
X-WR-CALNAME:Gratis-in-Berlin Tip Kalender
X-WR-CALDESC:Erhalte Gratis-in-Berlin Tips in deinem Kalender
BEGIN:VEVENT
UID:20260419T130203UTC-4827vcds0J@Gratis-in-Berlin
DTSTAMP:20260419T130203Z
DESCRIPTION:Im Sturzflug über die Grenze von Leben und TodEr hat das Haar eines 
 Raben und die Augen eines Uhus: Munk. In seinen Träumen sieht er die Toten. 
 Eines Tages wird Munk auf die Burg des tyrannischen Greifens von Amser ver
 schleppt. Während seine furchtlose Schwester Enna sich auf die Suche nach ih
 m macht\, entdeckt Munk tief im Burgberg ein grauenvolles Geheimnis ...Mun
 k findet sich in der Kathedrale des Kegelberges und erfährt\, dass es noch a
 ndere Menschen gibt\, die das uralte Erbe der Vögel in sich tragen. Und dass 
 der Greifenherrscher\, wenn ihn niemand aufhält\, nicht nur die Lebenden bed
 roht\, sondern auch all jene\, die längst gestorben sind.Wieland Freund\, ge
 boren 1969\, hat bisher für Kinder und Jugendliche geschrieben. Seine fantastis
 chen Romane wurden mit zahlreichen Preisen ausgezeichnet\, seine Geschicht
 en um »Törtel« wurden für das ZDF verfilmt. Mit »Rodrigo Raubein und Knirps\, sein Kn
 appe« hat er zuletzt ein Fragment Michael Endes vollendet. Letztes Jahr bei
  uns mit seinem ?Dreizehnfurcht?. Der Autor lebt in Berlin. Kooperation mi
 t dem Klett-Cotta Verlag.Förderung durch den Berliner Autorenlesefonds/Senats
 kanzlei/Kulturelle AngelegenheitenAnmeldung erbeten unter Telefon 54 704 1
 42 oder per Mail an Inés Bartel (ines.bartel@ba-mh.berlin.de)Eintritt frei /
  Austritt eine Spende an den Förderverein Stadtbibliothek Marzahn-Hellersdorf
  e.V. zur Mitfinanzierung der Veranstaltungen und Getränke.\n\nViel Spass wünscht
  Gratis-in-Berlin\n\nLink zum Tip: \nZu den Gratis-in-Berlin Angeboten: ht
 tp://www.gratis-in-berlin.de\n
DTSTART;VALUE=DATE:20251126
DTEND;VALUE=DATE:20251127
SUMMARY:'Fantasy bei Mark Twain': Wieland Freund liest aus ?Die Kathedrale 
 der Vögel?
END:VEVENT
END:VCALENDAR
