BEGIN:VCALENDAR
VERSION:2.0
PRODID:-//Gratis-in-Berlin//NONSGML kigkonsult.se iCalcreator 2.14//
METHOD:PUBLISH
X-WR-CALNAME:Gratis-in-Berlin Tip Kalender
X-WR-CALDESC:Erhalte Gratis-in-Berlin Tips in deinem Kalender
BEGIN:VEVENT
UID:20260419T154153UTC-2240GVNpzG@Gratis-in-Berlin
DTSTAMP:20260419T154153Z
DESCRIPTION:Die Amerika-Expertin Rieke Havertz stellt am 19. Februar ihr Bu
 ch ?Goodbye\, Amerika? Die USA und wir ? eine Neuvermessung? vor. Den Aben
 d moderiert unser Bibliothekar Patrick Ludwig.Zum Buch:Ein Präsident\, der o
 ffen die Verfassung angreift\, das Oval Office als Gefälligkeitsbörse\, das tra
 nsatlantische Bündnis in der Krise. Schon im ersten Jahr von Donald Trumps zwei
 ter Amtszeit ist klar\, dass diese vier Jahre nicht einfach unbeschadet au
 sgesessen werden können. Vielmehr stehen wir vor der grundlegenden Frage: ?Go
 odbye\, Amerika??\, die Trump uns aufgezwungen hat.Die langjährige USA-Exper
 tin Rieke Havertz lädt uns ein in ihr Amerika. Auf eine persönliche Reise durch
  Erinnerungen\, amerikanische Ambivalenzen und ein sich veränderndes Land\, 
 das uns doch alle betrifft. ? Immer mit der Hoffnung\, dieses streitbare\,
  entnervende\, wunderbare\, aufregende Land nicht aufgeben zu müssen.?Rieke Hav
 ertz kennt Amerika besser als die meisten Amerikaner. Ihre Stimme ist ents
 cheidend\, um uns dieses tief gespaltene Land näherzubringen.? Anne Hull\, P
 ulitzer-Preis-Gewinnerin und langjährige Journalistin für die Washington PostRiek
 e Havertz\, Jahrgang 1980\, ist internationale Korrespondentin bei der ZEI
 T und seit 2020 Co-Host des Podcasts ?OK\, America??. Mehrere Jahre hat si
 e aus Washington über das Land berichtet\, in das sie sich vor über 20 Jahren verlie
 bt hat ? auch wenn sie manchmal an ihm verzweifelt. Havertz hat in Leipzig
  und an der Ohio University Journalismus und Amerikanistik studiert. Nach 
 Stationen bei der taz ist sie seit 2016 bei DIE ZEIT.19. Februar 2026 // 1
 9 Uhr- Bezirkszentralbibliothek Pablo Neruda- Eintritt frei- Anmeldung unt
 er diesem Link: https://pretix.eu/bibxhain/havertz/\n\nViel Spass wünscht Grati
 s-in-Berlin\n\nLink zum Tip: \nZu den Gratis-in-Berlin Angeboten: http://w
 ww.gratis-in-berlin.de\n
DTSTART;VALUE=DATE:20260219
DTEND;VALUE=DATE:20260220
SUMMARY:Rieke Havertz: 'Goodbye\, Amerika? Die USA und wir ? eine Neuvermes
 sung'
END:VEVENT
END:VCALENDAR
