BEGIN:VCALENDAR
VERSION:2.0
PRODID:-//Gratis-in-Berlin//NONSGML kigkonsult.se iCalcreator 2.14//
METHOD:PUBLISH
X-WR-CALNAME:Gratis-in-Berlin Tip Kalender
X-WR-CALDESC:Erhalte Gratis-in-Berlin Tips in deinem Kalender
BEGIN:VEVENT
UID:20260419T142239UTC-48963gge6J@Gratis-in-Berlin
DTSTAMP:20260419T142239Z
DESCRIPTION:Ort: Humboldt-BibliothekAuf der Basis klassischer persischer Mu
 sik und mit Texten\, die iranische Märchen\, Mythen und Gedichte aufgreifen\
 , vermitteln die Musikerin und der Schriftsteller ein poetisches Panorama 
 einer der wichtigsten Kulturregionen der Welt\, die momentan aufgrund der 
 iranischen Revolution gegen das Mullah-Regime im Fokus der Tagesaktualität s
 teht. Ghasimi und Kleeberg sprechen die brennenden Themen wie Flucht\, Exi
 l\, Unterdrückung der Frauen und Migration nicht direkt und polemisch an\, sond
 ern wählen einen allegorischen\, poetischen Zugang\, der den bleibenden huma
 nistischen Werten Ausdruck verleiht: der Freundschaft und Begegnung\, der 
 Musik und der Liebe und der Hoffnung auf Verbundenheit. Musik und Worte st
 ehen nicht nebeneinander\, sondern verweben sich improvisatorisch zu einer
  ganz besonderen Erfahrung. Elshan Ghasimi (*1981 in Isfahan\, Iran) ist V
 irtuosin der persischen Langhalslaute Tar und Setar\, Komponistin\, Perfor
 mance-Künstlerin und Pädagogin. Sprache\, Musik\, Körperlichkeit und dramatischer Au
 sdruck bilden das Fundament ihres Schaffens\, das sich auch den bildenden 
 Künsten öffnet. Michael Kleeberg (*1959 in Stuttgart) ist freier Schriftsteller un
 d Übersetzer in Berlin. Für seine Romane wurde er vielfach ausgezeichnet. Er erh
 ielt u.a. für ?Vaterjahre? den Friedrich-Hölderlin-Preis der Stadt Bad Homburg und
  2016 den Literaturpreis der Konrad-Adenauer-Stiftung für sein Gesamtwerk. 2025
  wurde er mit dem Preis der Internationalen Hermann Hesse Gesellschaft aus
 gezeichnet.\n\nViel Spass wünscht Gratis-in-Berlin\n\nLink zum Tip: \nZu den Gr
 atis-in-Berlin Angeboten: http://www.gratis-in-berlin.de\n
DTSTART;VALUE=DATE:20260220
DTEND;VALUE=DATE:20260221
SUMMARY:?Wo gehen wir denn hin? Immer nach Hause? ? Musikalisch-literarisch
 e Performance mit der persischen Musikerin Elshan Ghasimi und dem Schrifts
 teller Michael Kleeberg
END:VEVENT
END:VCALENDAR
