BEGIN:VCALENDAR
VERSION:2.0
PRODID:-//Gratis-in-Berlin//NONSGML kigkonsult.se iCalcreator 2.14//
METHOD:PUBLISH
X-WR-CALNAME:Gratis-in-Berlin Tip Kalender
X-WR-CALDESC:Erhalte Gratis-in-Berlin Tips in deinem Kalender
BEGIN:VEVENT
UID:20260419T165028UTC-9573GcnXKh@Gratis-in-Berlin
DTSTAMP:20260419T165028Z
DESCRIPTION:Der Poetische Proberaum ist eine offene Lesebühne für Lyrik\, Prosa und T
 exte aller Art. Ein Raum zum Austauschen\, Ausprobieren und Zuhören\, auch Ni
 cht-Autor*innen sind willkommen.Für einen Lesespot meldet euch per Mail (poetis
 cherproberaum@gmail.com) oder Instagram (@poetischer.proberaum).\n\nViel S
 pass wünscht Gratis-in-Berlin\n\nLink zum Tip: https://www.gratis-in-berlin.de/
 lesungen-hoerspiele/item/2077074-poetischer-proberaum\nZu den Gratis-in-Be
 rlin Angeboten: http://www.gratis-in-berlin.de\n
DTSTART;VALUE=DATE:20260519
DTEND;VALUE=DATE:20260520
SUMMARY:Poetischer Proberaum
END:VEVENT
END:VCALENDAR
