BEGIN:VCALENDAR
VERSION:2.0
PRODID:-//Gratis-in-Berlin//NONSGML kigkonsult.se iCalcreator 2.14//
METHOD:PUBLISH
X-WR-CALNAME:Gratis-in-Berlin Tip Kalender
X-WR-CALDESC:Erhalte Gratis-in-Berlin Tips in deinem Kalender
BEGIN:VEVENT
UID:20260419T182730UTC-0473pEP9KJ@Gratis-in-Berlin
DTSTAMP:20260419T182730Z
DESCRIPTION:Ulrike Herrmann stellt am 29. April 2026 in der Bezirkszentralb
 ibliothek Pablo Neruda ihr neues Buch ?Geld als Waffe. Wie die Wirtschaft 
 über Krieg und Frieden entscheidet ? vor. Nach dem Bestseller ?Das Ende des Kap
 italismus? bietet Ulrike Herrmann nun einen faszinierenden Blick hinter di
 e Kulissen der neuen Weltordnung und eine spannende Analyse\, die erklärt\, 
 warum die Kriegsgefahr so hoch ist ? und was wir in Europa tun können\, um Fr
 ieden zu sichern.Wie entstehen Kriege? Und wie Frieden? Ulrike Herrmann un
 tersucht in diesem Buch große internationale Konflikte und analysiert\, das
 s die Gründe nicht nur historisch\, psychologisch oder politisch sind. Sondern 
 dass oft ökonomische Faktoren ausschlaggebend sind. Sie zeigt am Beispiel Rus
 slands\, wie die wirtschaftliche Entwicklung des Landes permanente Kriege 
 auch in Zukunft wahrscheinlich macht. Und sie beschreibt Chinas Aufstieg z
 ur Supermacht und erklärt\, wie Präsident Xi sein Land in eine ökonomische Sackga
 sse manövriert hat\, die er mit seinen Aggressionen gegen Taiwan zu kaschiere
 n versucht.In ihrem augenöffnenden und brisanten Buch zeigt Ulrike Herrmann\,
  welche große Bedeutung die Wirtschaft für die Politik der Supermächte hat ? und s
 ie beschreibt sehr anschaulich\, was das für uns bedeutet\, wenn wir den Friede
 n sichern wollen.Ulrike Herrmann\, geboren 1964 in Hamburg\, Ausbildung zu
 r Bankkauffrau\, Absolventin der Henri-Nannen-Schule\, Studium der Philoso
 phie und Geschichte. Seit 2000 Wirtschaftskorrespondentin der taz. Sie ist
  Autorin zahlreicher SPIEGEL-Bestseller\, zuletzt ?Das Ende des Kapitalism
 us?\, der in zahlreiche Sprachen übersetzt wurde.8. April 2026 // 19 Uhr- Bezir
 kszentralbibliothek Pablo Neruda- Eintritt frei- Anmeldung unter diesem Li
 nk: https://pretix.eu/bibxhain/geld/\n\nViel Spass wünscht Gratis-in-Berlin\n\n
 Link zum Tip: \nZu den Gratis-in-Berlin Angeboten: http://www.gratis-in-be
 rlin.de\n
DTSTART;VALUE=DATE:20260429
DTEND;VALUE=DATE:20260430
SUMMARY:Ulrike Herrmann: 'Geld als Waffe. Wie die Wirtschaft über Krieg und Frie
 den entscheidet'
END:VEVENT
END:VCALENDAR
