BEGIN:VCALENDAR
VERSION:2.0
PRODID:-//Gratis-in-Berlin//NONSGML kigkonsult.se iCalcreator 2.14//
METHOD:PUBLISH
X-WR-CALNAME:Gratis-in-Berlin Tip Kalender
X-WR-CALDESC:Erhalte Gratis-in-Berlin Tips in deinem Kalender
BEGIN:VEVENT
UID:20260419T164916UTC-9743NazLvR@Gratis-in-Berlin
DTSTAMP:20260419T164916Z
DESCRIPTION:Fast jeder Dichter ist ein Heimatsucher\, aber vielleicht war e
 s keiner so wie Rainer Maria Rilke. Mit Männern konnte der Dichter nichts an
 fangen\, nur eine Frau konnte ihm Führerin ins Leben werden. Er fand Lou Andrea
 s-Salomé\, schon damals eine geachtete Autorin\, vielleicht die erste Intell
 ektuelle Deutschlands. Nietzsches ?Du gehst zu Frauen? Vergiss die Peitsch
 e nicht!? wäre ohne die dramatische Begegnung des Philosophen mit der Peters
 burger Generalstochter kaum denkbar. Rilke dagegen schrieb für sie eines der sc
 hönsten Liebesgedichte der Weltgeschichte. Wer war diese Frau\, die Rilkes fr
 ühe Dichtung in den Papierkorb beförderte\, mit Nietzsche über Philosophie und mit Freu
 d über die Psychoanalyse diskutierte? Zum 150. Geburtstag Rainer Maria Rilkes 2
 026 stellt Kerstin Decker ihr Buch ?Der bittersüße Funke Ich? über Lou Andreas-Salom
 é vor. ?Schöner\, virtuoser kann man sich ein Lou-Portrait kaum denken? (ND)Ker
 stin Decker ist Journalistin und Autorin. Ihr gelingt als Biografin hoch g
 elobter Bücher über berühmte Persönlichkeiten wie Paula-Modersohn-Becker\, Heine oder Wagner
  der Balance-Akt\, der nur selten Journalisten gelingt: Literatur. Decker 
 studierte Journalistik in Leipzig und Philosophie an der Humboldt-Universi
 tät Berlin. 1994 promovierte sie\, arbeitete anschließend beim Berliner Tages
 spiegel und war Kritikerin bei der taz. Sie ist PEN-Mitglied.Danuta Schmid
 t ist Journalistin und Moderatorin. Mit der Berliner ?SonntagsLese? entwic
 kelte sie 15 Jahre ein eigenes Diskussionsformat. Nach einem Semester Jour
 nalismus in Leipzig in der Wendezeit wechselte sie ins Architektur-Fach\, 
 arbeitete in verschiedenen Büros und setzte parallel ihre journalistische Entwi
 cklung in verschiedenen Tageszeitungen\, später beim MDR-Hörfunk und im RBB Fer
 nsehen fort. Seit 2010 arbeitet sie freischaffend.Anmeldung ist erforderli
 ch: Telefonisch unter (030) 54 704 142 oder per Mail an Benita Hanke (beni
 ta.hanke@ba-mh.berlin.de)Eintritt frei\, Austritt: eine Spende an den Förderv
 erein Stadtbibliothek Marzahn-Hellersdorf e.V. zur Mitfinanzierung der Ver
 anstaltungen.Beginn: 20:00 UhrEinlass: ab 19:30 UhrBei einigen Veranstaltu
 ngen in der Stadtbibliothek machen wir Fotos und/oder Videos\, die ggf. au
 f unserer Webseite\, denen unserer Partner\, Facebook oder Instagram veröffen
 tlicht werden.\n\nViel Spass wünscht Gratis-in-Berlin\n\nLink zum Tip: \nZu den
  Gratis-in-Berlin Angeboten: http://www.gratis-in-berlin.de\n
DTSTART;VALUE=DATE:20260422
DTEND;VALUE=DATE:20260423
SUMMARY:Autoren und ihre Bücher mit Kerstin Decker und Danuta Schmidt
END:VEVENT
END:VCALENDAR
