BEGIN:VCALENDAR
VERSION:2.0
PRODID:-//Gratis-in-Berlin//NONSGML kigkonsult.se iCalcreator 2.14//
METHOD:PUBLISH
X-WR-CALNAME:Gratis-in-Berlin Tip Kalender
X-WR-CALDESC:Erhalte Gratis-in-Berlin Tips in deinem Kalender
BEGIN:VEVENT
UID:20260422T101600UTC-7401VnWTEL@Gratis-in-Berlin
DTSTAMP:20260422T101600Z
DESCRIPTION:Was Worte mit uns machen ? und wir mit ihnen. Lassen Sie sich v
 on literarischen Texten zum Schreiben inspirieren.In dieser offenen Gruppe
  lesen wir kurze literarische Texte und lassen uns davon zum Schreiben ins
 pirieren. Im Mittelpunkt stehen persönliches Erleben und neue Perspektiven ? 
 besonders für Menschen mit belastenden Erfahrungen.Wer möchte\, kann anschließend e
 igene Texte mit der Gruppe teilen. Doch genauso willkommen ist es\, einfac
 h still dabei zu sein und zuzuhören. Es geht um Verbindung\, nicht um Leistun
 g ? um Worte\, die etwas in uns zum Klingen bringen.In Zusammenarbeit mit 
 RECASAS ? Die Geschichten unseres Lebens neu erzählen.© ZLB\n\nViel Spass wünscht 
 Gratis-in-Berlin\n\nLink zum Tip: https://www.gratis-in-berlin.de/kalender
 /item/2077273-lesen-schreiben-teilen\nZu den Gratis-in-Berlin Angeboten: h
 ttp://www.gratis-in-berlin.de\n
DTSTART;VALUE=DATE:20260308
DTEND;VALUE=DATE:20260309
SUMMARY:Lesen. Schreiben. Teilen 
END:VEVENT
END:VCALENDAR
