BEGIN:VCALENDAR
VERSION:2.0
PRODID:-//Gratis-in-Berlin//NONSGML kigkonsult.se iCalcreator 2.14//
METHOD:PUBLISH
X-WR-CALNAME:Gratis-in-Berlin Tip Kalender
X-WR-CALDESC:Erhalte Gratis-in-Berlin Tips in deinem Kalender
BEGIN:VEVENT
UID:20260419T182838UTC-3133DwgIPc@Gratis-in-Berlin
DTSTAMP:20260419T182838Z
DESCRIPTION:Im Grunde hat Frankie alles\, was ein Kater braucht: Riesen-Fer
 nseher\, Riesen-Bett\, Futter mit viel Soße. Nur sein Menschenfreund Gold f
 ehlt ihm\, der seit Monaten in der Klapse sitzt. Eines Tages gerät Frankie n
 ach einem nächtlichen Streifzug in ein Müllauto\, das mit ihm davonfährt. Weit weg 
 von seinem Zuhause. Von allem\, was er kennt.Verzweifelt sucht Frankie nac
 h einem Weg zurück. Dabei trifft er auf ein Mädchen\, die rätselhafte Shattab. Sie 
 ist allein\, schmutzig und abgehauen aus der »Kanakensammelstelle«\, wie sie
  sagt. Und so beginnt ein großes Abenteuer und die Reise durch ein Land\, i
 n dem beide Fremde sind.Zusammen begegnen sie den unterschiedlichsten Gest
 alten\, Menschen wie Tieren. Einer alten Frau\, die vielleicht mal die Fot
 ografin von John Lennon war\, zwei belesenen Aaskrähen\, brutalen Jugendlich
 en ohne Herz. Frankie und Shattab rauben moralisch eine Tankstelle aus\, s
 ie fliehen auf eine Hühnermastfarm\, sie treiben auf einem Fluss Richtung »Arsch
  der Welt«. Und die ganze Zeit über ist ein Sheriff auf der Jagd nach dem Mädchen.
 Die unvergessliche Geschichte einer zarten Freundschaft. Ein mitreißender R
 oman darüber\, was es bedeutet\, sein Zuhause zu verlieren. Witzig\, klug und z
 utiefst bewegend. Jochen Gutsch\, geboren 1971\, lebt als Journalist und S
 chriftsteller in Berlin. Für seine Arbeiten wurde er mit dem Theodor-Wolff-Prei
 s und dem Henri-Nannen-Preis ausgezeichnet. Zusammen mit Maxim Leo verfass
 te er mehrere Bestseller\, darunter »Es ist nur eine Phase\, Hase«. Der Roma
 n »Frankie« gehörte zu den erfolgreichsten Büchern im Jahr 2023 und wurde bislang in
  25 Sprachen übersetzt.\n\nViel Spass wünscht Gratis-in-Berlin\n\nLink zum Tip: \nZu
  den Gratis-in-Berlin Angeboten: http://www.gratis-in-berlin.de\n
DTSTART;VALUE=DATE:20260422
DTEND;VALUE=DATE:20260423
SUMMARY:Jochen Gutsch liest aus seinem neuen Buch 'Frankie - Unter Menschen
 '
END:VEVENT
END:VCALENDAR
