BEGIN:VCALENDAR
VERSION:2.0
PRODID:-//Gratis-in-Berlin//NONSGML kigkonsult.se iCalcreator 2.14//
METHOD:PUBLISH
X-WR-CALNAME:Gratis-in-Berlin Tip Kalender
X-WR-CALDESC:Erhalte Gratis-in-Berlin Tips in deinem Kalender
BEGIN:VEVENT
UID:20260419T152131UTC-4029Rl1sG6@Gratis-in-Berlin
DTSTAMP:20260419T152131Z
DESCRIPTION:Tauchen Sie ein in eine bewegende literarische Reise durch die 
 Schatten der Geschichte und das Licht der Kunst. Die Autorin Alexandra Ced
 rino liest aus ihrer gefeierten ?Galeristinnen?-Trilogie. In drei Bänden erz
 ählt sie ? inspiriert von ihrer eigenen Familiengeschichte ? die fiktive\, a
 ber zutiefst menschliche Geschichte einer Berliner Galerie im Nationalsozi
 alismus.Alexandra Cedrino\, geboren in München\, wuchs zwischen Leinwänden\, Kuns
 tbänden und Geschichten in der Kunsthandlung ihres Großvaters Wolfgang Gurlit
 t auf. Heute lebt sie in Berlin ? jener Stadt\, in der auch die Geschichte
  ihrer Romanfiguren verwurzelt ist. Im Anschluss an die Lesung gibt es die
  Gelegenheit\, mit der Autorin ins Gespräch zu kommen\, Fragen zu stellen od
 er einfach über Literatur\, Kunst und Geschichte zu plaudern. Freitag\, 24. Apr
 il 2026 | 18.30 Uhr Kostenfrei Anmeldung: https://app.cituro.com/booking/s
 tadtteilbibliotheklichtenrade?presetCategory=11ef8d3d5573d2c99c4b9f311fc98
 e70#step=2\n\nViel Spass wünscht Gratis-in-Berlin\n\nLink zum Tip: https://www.
 gratis-in-berlin.de/lesungen-hoerspiele/item/2077531-lesung-ricarda-messne
 r\nZu den Gratis-in-Berlin Angeboten: http://www.gratis-in-berlin.de\n
DTSTART;VALUE=DATE:20260424
DTEND;VALUE=DATE:20260425
SUMMARY:Lesung Galeristinnen-Trilogie von Alexandra Cedrino in der Stadttei
 lbibliothek Lichtenrade
END:VEVENT
END:VCALENDAR
