BEGIN:VCALENDAR
VERSION:2.0
PRODID:-//Gratis-in-Berlin//NONSGML kigkonsult.se iCalcreator 2.14//
METHOD:PUBLISH
X-WR-CALNAME:Gratis-in-Berlin Tip Kalender
X-WR-CALDESC:Erhalte Gratis-in-Berlin Tips in deinem Kalender
BEGIN:VEVENT
UID:20260419T164805UTC-669930mjhD@Gratis-in-Berlin
DTSTAMP:20260419T164805Z
DESCRIPTION:Ciani-Sophia Hoeder stellt am 22. April ihr aktuelles Sachbuch 
 ?Ökorassismus. Wie Weiße unsere Welt zerstören? in der Mittelpunktbibliothek Wi
 lhelm Liebknecht / Namik Kemal vor. Sie untersucht darin die Verflechtunge
 n von ökologischer Ungerechtigkeit und Rassismus und beleuchtet\, wer den wah
 ren Preis für unsere Umweltkrise zahlt.Zum Buch:Ob eine Person neben einer Mülldepon
 ie oder im Grünen lebt\, indigene Gemeinschaften zugunsten des westlichen Konsu
 ms enteignet oder durch »green gentrification« ganze Personengruppen verdrängt
  werden ? all das ist kein Zufall\, dahinter steckt Ökorassismus. Auch die 
 fortschreitende Erderwärmung trifft systematisch People of Color\, während der
  weiße Westen von einem Lebensstil profitiert\, der die Welt an den Abgrund
  bringt.Eindrücklich zeigt Ciani-Sophia Hoeder\, warum Bambuszahnbürsten die Welt ni
 cht retten und was hinter »grünen Nazis« steckt. Ein Buch über die oft unsichtbaren Zu
 sammenhänge zwischen Ökologie und Rassismus ? aufrüttelnd\, persönlich und hochaktuel
 l.Ciani-Sophia Hoeder ist freie Journalistin sowie Gründerin von RosaMag\, dem 
 ersten Online-Lifestylemagazin für Schwarze FLINTA* in Deutschland. Sie studier
 te Politik und Journalismus in Berlin und London. Bei hanserblau erschiene
 n bisher zwei Bücher von ihr\, ?Wut und Böse? (2021) und ?Vom Tellerwäscher zum Tell
 erwäscher? (2023).Die Moderation des Abends übernimmt Aida Baghernejad.22. April 
 2026 // 20 Uhr- Mittelpunktbibliothek Wilhelm Liebknecht / Namik Kemal- Ei
 ntritt frei- Voranmeldung unter diesem Link (https://pretix.eu/bibxhain/oe
 korassismus/)&nbsp\;oder telefonisch unter (030) 5058 5225Die Mittelpunktb
 ibliothek ist über die Adalbertstraße ebenerdig zugänglich. Der Eintritt in das Ge
 bäude ist über eine Automatiktür mit Türöffner möglich. Eine zweite Tür am Eingang muss händisch geöffne
 t werden. In der warmen Jahreszeit bemühen wir uns darum\, dass diese Tür geöffnet b
 leibt. Die Bibliothek verfügt über einen Aufzug und ein barrierefreies WC im Er
 dgeschoss. Die WC-Nutzung ist mit einem gültigen Bibliotheks- oder Lesesaalausw
 eis möglich. Wenn Sie Fragen haben oder Unterstützung benötigen\, sprechen Sie uns je
 derzeit an. Wir unterstützen Sie gerne.\n\nViel Spass wünscht Gratis-in-Berlin\n\nLi
 nk zum Tip: \nZu den Gratis-in-Berlin Angeboten: http://www.gratis-in-berl
 in.de\n
DTSTART;VALUE=DATE:20260422
DTEND;VALUE=DATE:20260423
SUMMARY:Ciani-Sophia Hoeder: 'Ökorassismus. Wie Weiße unsere Welt zerstören'
END:VEVENT
END:VCALENDAR
