BEGIN:VCALENDAR
VERSION:2.0
PRODID:-//Gratis-in-Berlin//NONSGML kigkonsult.se iCalcreator 2.14//
METHOD:PUBLISH
X-WR-CALNAME:Gratis-in-Berlin Tip Kalender
X-WR-CALDESC:Erhalte Gratis-in-Berlin Tips in deinem Kalender
BEGIN:VEVENT
UID:20260419T122235UTC-6126jVaMej@Gratis-in-Berlin
DTSTAMP:20260419T122235Z
DESCRIPTION:Am Samstag\, dem 14. März\, stellt Thaer Ayoub seinen neuen Gedic
 htband ?Akka ... Aleppo ... Berlin? im Brunnenviertel vor. Der Band ersche
 int in drei Sprachen (Arabisch\, Hebräisch und Deutsch. Der Autor setzt sich
  darin literarisch-lyrisch mit seinem Status als palästinensischer Flüchtling aus
 einander. Die Lesung mit Publikumsgespräch beginnt um 19.30 Uhr in der Torte
 nwerkstatt\, Gleimstraße 6.\n\nViel Spass wünscht Gratis-in-Berlin\n\nLink zum T
 ip: \nZu den Gratis-in-Berlin Angeboten: http://www.gratis-in-berlin.de\n
DTSTART;VALUE=DATE:20260314
DTEND;VALUE=DATE:20260315
SUMMARY:?Akka ? Aleppo ? Berlin? - Gedichte in drei Sprachen
END:VEVENT
END:VCALENDAR
