BEGIN:VCALENDAR
VERSION:2.0
PRODID:-//Gratis-in-Berlin//NONSGML kigkonsult.se iCalcreator 2.14//
METHOD:PUBLISH
X-WR-CALNAME:Gratis-in-Berlin Tip Kalender
X-WR-CALDESC:Erhalte Gratis-in-Berlin Tips in deinem Kalender
BEGIN:VEVENT
UID:20260419T164820UTC-9696GPCVCv@Gratis-in-Berlin
DTSTAMP:20260419T164820Z
DESCRIPTION:In roher\, unverwechselbarer Sprache schreibt Bianca Jankovska 
 über weibliche Verbundenheit\, Rachegelüste\, eine notwendige Portion Größenwahn und di
 e Abwendung vom alles umfassenden männlichen Blick. Diese Geschichte ist int
 ensiv\, kompromisslos und in ihrem Mut zur Ambivalenz alles andere als gef
 ällig.Die Autorin liest aus dem Roman und kommt im anschließenden Q&amp\;A mi
 t dem Publikum ins Gespräch.Fr.\, 24. April | 19.30 Uhr in der Schiller-Bibl
 iothekKostenlose Tickets könnt ihr über pretix bei uns buchen! https://pretix.eu/S
 chiller-Bibliothek/Jankovska\n\nViel Spass wünscht Gratis-in-Berlin\n\nLink zum
  Tip: \nZu den Gratis-in-Berlin Angeboten: http://www.gratis-in-berlin.de
 \n
DTSTART;VALUE=DATE:20260424
DTEND;VALUE=DATE:20260425
SUMMARY:Lesung: Fuckgirl von Bianca Jankovska
END:VEVENT
END:VCALENDAR
