BEGIN:VCALENDAR
VERSION:2.0
PRODID:-//Gratis-in-Berlin//NONSGML kigkonsult.se iCalcreator 2.14//
METHOD:PUBLISH
X-WR-CALNAME:Gratis-in-Berlin Tip Kalender
X-WR-CALDESC:Erhalte Gratis-in-Berlin Tips in deinem Kalender
BEGIN:VEVENT
UID:20260419T170630UTC-374197sT6u@Gratis-in-Berlin
DTSTAMP:20260419T170630Z
DESCRIPTION:Schauspieler\, Regisseur und Autor Victor Schefé stellt am 23. Ap
 ril 2026\, dem Welttag des Buches\, seinen Debütroman ?Zwei\, drei blaue Augen?
  Mittelpunktbibliothek Wilhelm Liebknecht / Namik Kemal vor. Zum Buch:Aus 
 diesem Leben konnte nur ein Roman werden\, aber ein Roman wie kein zweiter
 : voller unbändiger Energie und leuchtender Lebensgier. Ein Mensch\, viellei
 cht am falschen Ort geboren\, macht sich auf\, frei und unabhängig zu sein: 
 Tassilo\, jung und verliebt in Musik und Männer\, will raus aus der Rostocke
 r Platte und rein in die Freiheit West-Berlins. Schwankend zwischen Verzwe
 iflung und Euphorie plant er seinen Ausbruch. Denn auch Zuhause scheint er
  nicht mehr sicher zu sein: »Mutter sagt\, sie wird alles dafür tun\, dass mein 
 Vorhaben nie aufgeht. Ihre Kriegserklärung ist klipp und klar ? nicht nur al
 s Mutter\, auch als Genossin.« Es gleicht einem Wunder\, doch 1986\, mit ge
 rade einmal neunzehn Jahren\, kommt dieser Suchende und Strauchelnde mit d
 en blauen Augen am Bahnhof Zoo an. Drei Jahre später fällt die Mauer und er ma
 cht eine Entdeckung\, die sein ganzes Leben verändert... Aus Briefen\, Tageb
 ucheinträgen\, Kindheitserinnerungen und Stasi-Akten formt Victor Schefé einen
  Roman\, der vor Energie leuchtet. Victor Schefé\, 1967 in der DDR geboren\,
  ist 1986 nach West-Berlin ausgereist. Start als Schauspieler an Berliner 
 Off-Theatern\, wenig später Hauptrollen am Schauspielhaus Wien. Danach in über ac
 htzig Film- und TV-Produktionen von ?Tatort? bis ?Bewegte Männer?\, ab 2010 
 auch international\, in ?Bridge of Spies? unter der Regie von Steven Spiel
 berg\, im James-Bond-Film ?Spectre? und in drei Staffeln ?Borgia?. Regisse
 ur und Produzent von ?B. i. N. ? Berlin im November?. Mitglied der Deutsch
 en Filmakademie und Unterzeichner der Initiative #actout. 23. April 2026 /
 / 20 Uhr- Mittelpunktbibliothek Wilhelm Liebknecht / Namik Kemal- Eintritt
  frei- Voranmeldung unter https://pretix.eu/bibxhain/schefe/ oder telefoni
 sch unter (030) 5058 5225 Die Mittelpunktbibliothek ist über die Adalbertstraße 
 ebenerdig zugänglich. Der Eintritt in das Gebäude ist über eine Automatiktür mit Türöffner mögli
 ch. Eine zweite Tür am Eingang muss händisch geöffnet werden. In der warmen Jahresze
 it bemühen wir uns darum\, dass diese Tür geöffnet bleibt. Die Bibliothek verfügt über ei
 nen Aufzug und ein barrierefreies WC im Erdgeschoss. Die WC-Nutzung ist mi
 t einem gültigen Bibliotheks- oder Lesesaalausweis möglich. Wenn Sie Fragen haben 
 oder Unterstützung benötigen\, sprechen Sie uns jederzeit an. Wir unterstützen Sie gern
 e.\n\nViel Spass wünscht Gratis-in-Berlin\n\nLink zum Tip: \nZu den Gratis-in-B
 erlin Angeboten: http://www.gratis-in-berlin.de\n
DTSTART;VALUE=DATE:20260423
DTEND;VALUE=DATE:20260424
SUMMARY:Victor Schefé: 'Zwei\, drei blaue Augen'
END:VEVENT
END:VCALENDAR
