BEGIN:VCALENDAR
VERSION:2.0
PRODID:-//Gratis-in-Berlin//NONSGML kigkonsult.se iCalcreator 2.14//
METHOD:PUBLISH
X-WR-CALNAME:Gratis-in-Berlin Tip Kalender
X-WR-CALDESC:Erhalte Gratis-in-Berlin Tips in deinem Kalender
BEGIN:VEVENT
UID:20260419T165731UTC-1959BnMIBU@Gratis-in-Berlin
DTSTAMP:20260419T165731Z
DESCRIPTION:Frustriert von schlechten Nachrichten? In dir drin ist Wut\, di
 e raus muss? Du willst Menschen Hoffnung machen mit deinen Utopien? Einfac
 h Bock auf Schreiben? In der Schreibwerkstatt mit Alex M. Gastel ist Platz
  für alle Zukunftsvisionen\, von hoffnungsvoll bis pessimistisch. Wir sind laut
 : Alle\, die möchten\, präsentieren ihre Texte am Schluss in einem Zine und ein
 er Lesung.Alex M. Gastel (dey/denen) ist nicht-binär und trans*. Deren Buch 
 ?Als in meinem Ausweis noch ... stand? kam letztes Jahr heraus. Dey liebt 
 Brettspiele\, Katzen\, Trekking\, deren queere Wahlfamilie und natürlich: Schre
 iben! Oft wütend\, manchmal weird\, gerne Sci-Fi\, immer queer.Gastdozent*in: L
 ahya Aukongo (keine Pronomen) schreibt knallzart über alles was berührt\, empört und ge
 sagt werden muss. Lahya zentriert Menschen\, die an den Rand gedrängt werden
 \, und veröffentlicht Bücher\, bastelt Zines\, singt und performt auf unterschiedl
 ichen Bühnen. Lahya mag Schafskäse und Erdbeereis.Teilnahmebedingungen:- Queers &
 amp\; Questioning- Alter: ca. 19-27 Jahre- keine Vorkenntnisse nötig- Anmeldu
 ng unter alex.m.gastel@gmail.com oder auf Instagram an @empowerndes_schrei
 benWerkstatt\, an folgenden Montagen jeweils 16:30-19:00 Uhr:20. und 27. A
 pril 20264. / 11. und 18. Mai 20261. / 8. / 22. und 29. Juni 2026Abschluss
 lesung7. Oktober 2026 um 19 UhrZusatzangebotTransInterQueer e.V. wird pass
 end zur Werkstatt einen freien Schreibtreff anbieten. Termin und Ort geben
  wir noch bekannt ? der Schreibtreff ist optional.Safer Space KonzeptWir a
 rbeiten mit Content Notes\, wenn in unseren Texten Diskriminierung oder an
 deres evtl triggerndes vorkommt. Vorlesen und auch veröffentlichen ist immer 
 freiwillig\, Pseudonyme sind auch möglich.Wir erkennen an\, dass auch in dies
 em Space Diskriminierung passieren kann\, zum Beispiel Rassismus oder Able
 ismus. Wenn das passiert hören wir der betroffenen Person zu\, entschuldigen 
 uns und lernen.Wir achten gemeinsam auf uns und unsere verschiedenen Bedürfniss
 e.Infos zu BarrierenDie Bibliothek und der Werkstattraum sind für Menschen mit 
 Gehhilfe oder Rollstuhl zugänglich. Es gibt rollstuhlgerechte Toiletten. Wen
 n du eine Seh- oder Hörbehinderung hast\, gib gerne vorab Bescheid\, dann pas
 st Alex den Workshop entsprechend an. Für weitere Fragen oder Absprachen nutzt 
 den oben angegebenen Kontakt.\n\nViel Spass wünscht Gratis-in-Berlin\n\nLink zu
 m Tip: \nZu den Gratis-in-Berlin Angeboten: http://www.gratis-in-berlin.de
 \n
DTSTART;VALUE=DATE:20260420
DTEND;VALUE=DATE:20260421
SUMMARY:Zukünfte queeren ? Schreibwerkstatt für junge Erwachsene
END:VEVENT
END:VCALENDAR
