BEGIN:VCALENDAR
VERSION:2.0
PRODID:-//Gratis-in-Berlin//NONSGML kigkonsult.se iCalcreator 2.14//
METHOD:PUBLISH
X-WR-CALNAME:Gratis-in-Berlin Tip Kalender
X-WR-CALDESC:Erhalte Gratis-in-Berlin Tips in deinem Kalender
BEGIN:VEVENT
UID:20260419T151955UTC-7891DdN1h7@Gratis-in-Berlin
DTSTAMP:20260419T151955Z
DESCRIPTION:Was passiert\, wenn ein Terroranschlag in Berlin-Neukölln einen un
 schuldigen Mann ins Visier der Polizei bringt ? und er beschließt\, die Wah
 rheit selbst herauszufinden\, dabei aber einem internationalen rechtspopul
 istischen Komplott auf die Spur kommt? Mit ihrem neuen Comic Emma und Amir
  erzählt die Berliner Comickünstlerin Bianca Schaalburg einen mitreißenden Krimi u
 nd Politthriller zwischen Berlin und Paris: durch Schwimmbäder und Hotels\, 
 über Friedhöfe und ins Kino ? atemlos folgen wir der Geschichte und ihrer virtuose
 n visuellen Umsetzung.An diesem Abend liest Bianca Schaalburg und gibt zus
 ätzlich Einblick ins Making-Of und 'Behind the Scenes'.© Jacoby&amp\;Stuart\n
 \nViel Spass wünscht Gratis-in-Berlin\n\nLink zum Tip: \nZu den Gratis-in-Berli
 n Angeboten: http://www.gratis-in-berlin.de\n
DTSTART;VALUE=DATE:20260507
DTEND;VALUE=DATE:20260508
SUMMARY:'Emma und Amir' | Comiclesung mit Bianca Schaalburg
END:VEVENT
END:VCALENDAR
