BEGIN:VCALENDAR
VERSION:2.0
PRODID:-//Gratis-in-Berlin//NONSGML kigkonsult.se iCalcreator 2.14//
METHOD:PUBLISH
X-WR-CALNAME:Gratis-in-Berlin Tip Kalender
X-WR-CALDESC:Erhalte Gratis-in-Berlin Tips in deinem Kalender
BEGIN:VEVENT
UID:20260423T100334UTC-1527sIxvHm@Gratis-in-Berlin
DTSTAMP:20260423T100334Z
DESCRIPTION:'Betrachten Sie Behinderung einfach als eine Eigenschaft wie di
 e Haarfarbe' ist eine von Krauthausens zentralen Botschaften\, und er kämpft
  auf allen Plattformen ? analog und digital ? für Sichtbarkeit und gegen Diskri
 minierung. In seinem Buch Wer Inklusion will\, findet einen Weg. Wer sie n
 icht will\, findet Ausreden. (2023) wirft Raúl Krauthausen grundlegende und of
 t unangenehme Fragen zur Inklusion in Deutschland auf\, bringt seine Leser
 schaft dazu\, sich mit ihrem eigenen Ableismus auseinanderzusetzen\, und e
 ntwickelt eine Idee davon\, wie Inklusion auf allen Ebenen wirklich zu leb
 en ist. Denn: Inklusion ist Menschenrecht.Moderiert wird der Abend von Bou
 ssa Thiam.Diese Veranstaltung wird durch eine Gebärdensprachdolmetschung beg
 leitet und ist somit für gehörlose und gebärdensprachliche Teilnehmende zugänglich.© An
 na Spindelndreier\n\nViel Spass wünscht Gratis-in-Berlin\n\nLink zum Tip: https
 ://www.gratis-in-berlin.de/naechste-monat/item/2078105-wie-kann-inklusion-
 gelingen\nZu den Gratis-in-Berlin Angeboten: http://www.gratis-in-berlin.d
 e\n
DTSTART;VALUE=DATE:20260504
DTEND;VALUE=DATE:20260505
SUMMARY:Wie kann Inklusion gelingen?
END:VEVENT
END:VCALENDAR
