BEGIN:VCALENDAR
VERSION:2.0
PRODID:-//Gratis-in-Berlin//NONSGML kigkonsult.se iCalcreator 2.14//
METHOD:PUBLISH
X-WR-CALNAME:Gratis-in-Berlin Tip Kalender
X-WR-CALDESC:Erhalte Gratis-in-Berlin Tips in deinem Kalender
BEGIN:VEVENT
UID:20260419T164819UTC-9303KrVIRK@Gratis-in-Berlin
DTSTAMP:20260419T164819Z
DESCRIPTION:In einer rasant sich wandelnden Welt versuchen der leicht zwang
 hafte Schlaukopf Juri und der schwer hungrige Schlawiner Walther ihren Pla
 tz zu finden ? und dabei immer schön sauber zu bleiben.Die Veranstaltung ist 
 Teil der COMIC WEEK 2026.Weitere InfosFür Familien und Kinder ab 6 Jahren.Anmel
 dung erwünscht unter jubi@zlb.de.© Kibitz\n\nViel Spass wünscht Gratis-in-Berlin\n\nL
 ink zum Tip: \nZu den Gratis-in-Berlin Angeboten: http://www.gratis-in-ber
 lin.de\n
DTSTART;VALUE=DATE:20260508
DTEND;VALUE=DATE:20260509
SUMMARY:'Einmal kurz nicht aufgepasst' | Kindercomic-Lesung
END:VEVENT
END:VCALENDAR
