BEGIN:VCALENDAR
VERSION:2.0
PRODID:-//Gratis-in-Berlin//NONSGML kigkonsult.se iCalcreator 2.14//
METHOD:PUBLISH
X-WR-CALNAME:Gratis-in-Berlin Tip Kalender
X-WR-CALDESC:Erhalte Gratis-in-Berlin Tips in deinem Kalender
BEGIN:VEVENT
UID:20260419T152048UTC-3815SpIbJl@Gratis-in-Berlin
DTSTAMP:20260419T152048Z
DESCRIPTION:Am 26. April 1986 erschütterte die Reaktorkatastrophe von Tschernoby
 l die Welt. Zunächst versuchte die Sowjetunion das Unglück zu vertuschen. Dann sp
 ielte die SED-Führung die Folgen des Super-GAUs für die DDR herunter. Doch die Mensc
 hen hinterfragten die Sicherheit der Atomkraftwerke in der DDR und so stärkt
 e die Verharmlosungsstrategie die Umweltbewegung.Dr. Florian Schikowski (B
 undesarchiv ? Stasi-Unterlagen-Archiv) hat den Band 1986 der Reihe ?Die DD
 R im Blick der Stasi? bearbeitet und wird die Rolle der Stasi beim Umgang 
 mit Tschernobyl analysieren. Im Anschluss diskutiert er über die Geschichte der
  Atomkraft in der DDR mit den Autoren Prof. Dr. Andreas Jüttemann und Gunnar Kl
 ack\, deren neues Buch ?Strahlende Zukunft? Atomkraft in der DDR? demnächst 
 erscheinen wird. Prof. Dr. Daniela Münkel (Bundesarchiv ? Stasi-Unterlagen-Arch
 iv) moderiert die Diskussion. Der Eintritt ist frei. Eine Anmeldung ist ni
 cht erforderlich. Die Buchvorstellung findet im Rahmen der Veranstaltungsr
 eihe Lesebühne statt. Die Veranstaltungsreihe wird in Kooperation mit der Rober
 t-Havemann-Gesellschaft e.V. durchgeführt. Der Zugang zum Veranstaltungssaal is
 t leider nicht barrierefrei.\n\nViel Spass wünscht Gratis-in-Berlin\n\nLink zum
  Tip: \nZu den Gratis-in-Berlin Angeboten: http://www.gratis-in-berlin.de
 \n
DTSTART;VALUE=DATE:20260421
DTEND;VALUE=DATE:20260422
SUMMARY:Die Reaktorkatastrophe von Tschernobyl und die Auswirkungen auf die
  DDR
END:VEVENT
END:VCALENDAR
