BEGIN:VCALENDAR
VERSION:2.0
PRODID:-//Gratis-in-Berlin//NONSGML kigkonsult.se iCalcreator 2.14//
METHOD:PUBLISH
X-WR-CALNAME:Gratis-in-Berlin Tip Kalender
X-WR-CALDESC:Erhalte Gratis-in-Berlin Tips in deinem Kalender
BEGIN:VEVENT
UID:20260419T151955UTC-2835ibUH3w@Gratis-in-Berlin
DTSTAMP:20260419T151955Z
DESCRIPTION:Bille\, Esra und Waldi sind wieder da ? und ihre futuristischen
  Abenteuer gehen in die nächste Runde!Also\, bloß nicht verpassen: Lesung und
  Comic-Workshop mit Aisha Franz und den Drei aus der Zukunft\, pünktlich am GRA
 TIS COMIC TAG 2026!Die Veranstaltung ist Teil der COMIC WEEK 2026.Weitere 
 InfosAnmeldung erwünscht unter jubi@zlb.de.Für Kinder ab 8 Jahren.© Reprodukt\n\nViel
  Spass wünscht Gratis-in-Berlin\n\nLink zum Tip: \nZu den Gratis-in-Berlin Ange
 boten: http://www.gratis-in-berlin.de\n
DTSTART;VALUE=DATE:20260509
DTEND;VALUE=DATE:20260510
SUMMARY:'Drei aus der Zukunft: Quatsch lässt sich nicht programmieren'
END:VEVENT
END:VCALENDAR
