BEGIN:VCALENDAR
VERSION:2.0
PRODID:-//Gratis-in-Berlin//NONSGML kigkonsult.se iCalcreator 2.14//
METHOD:PUBLISH
X-WR-CALNAME:Gratis-in-Berlin Tip Kalender
X-WR-CALDESC:Erhalte Gratis-in-Berlin Tips in deinem Kalender
BEGIN:VEVENT
UID:20260419T164956UTC-8718U6hClM@Gratis-in-Berlin
DTSTAMP:20260419T164956Z
DESCRIPTION:It?s tea time: An einem Montag im Monat widmen wir uns bei eine
 r Tasse Tee einem Thema und den Texten\, die darüber erzählen. Die Teilnehmenden 
 sind herzlich eingeladen\, selbst Bücher mitzubringen: zum Vorstellen\, Klappen
 text vorlesen oder als Leseempfehlung. Auch wenn ihr ohne Buch kommt oder 
 einfach nur zuhören wollt\, freuen wir uns auf euch.Im Mai kann die hektische
  Großstadt hinter sich gelassen werden\, denn Tee &amp\; Texte widmen sich 
 dem Thema Provinz. Ein neues Leben auf dem Land beginnen? Davon träumen seit
  einigen Jahren immer mehr Menschen\, die sich mehr Ruhe und Gelassenheit 
 erhoffen\, was sich auch in der Gegenwartsliteratur widerspiegelt.Woher ko
 mmt die Sehnsucht nach der Provinz? Ist das Landleben der Inbegriff von Fr
 eiheit ? oder birgt es die Gefahr einer neuen Enge?\n\nViel Spass wünscht Grati
 s-in-Berlin\n\nLink zum Tip: https://www.gratis-in-berlin.de/lesungen-hoer
 spiele/item/2078122-tee-und-texte\nZu den Gratis-in-Berlin Angeboten: http
 ://www.gratis-in-berlin.de\n
DTSTART;VALUE=DATE:20260511
DTEND;VALUE=DATE:20260512
SUMMARY:Tee und Texte
END:VEVENT
END:VCALENDAR
